BEGIN:VCALENDAR
VERSION:2.0
PRODID:-//PSD - ECPv6.15.11//NONSGML v1.0//EN
CALSCALE:GREGORIAN
METHOD:PUBLISH
X-WR-CALNAME:PSD
X-ORIGINAL-URL:https://psdconsulting.com
X-WR-CALDESC:Events for PSD
REFRESH-INTERVAL;VALUE=DURATION:PT1H
X-Robots-Tag:noindex
X-PUBLISHED-TTL:PT1H
BEGIN:VTIMEZONE
TZID:America/New_York
BEGIN:DAYLIGHT
TZOFFSETFROM:-0500
TZOFFSETTO:-0400
TZNAME:EDT
DTSTART:20200308T070000
END:DAYLIGHT
BEGIN:STANDARD
TZOFFSETFROM:-0400
TZOFFSETTO:-0500
TZNAME:EST
DTSTART:20201101T060000
END:STANDARD
BEGIN:DAYLIGHT
TZOFFSETFROM:-0500
TZOFFSETTO:-0400
TZNAME:EDT
DTSTART:20210314T070000
END:DAYLIGHT
BEGIN:STANDARD
TZOFFSETFROM:-0400
TZOFFSETTO:-0500
TZNAME:EST
DTSTART:20211107T060000
END:STANDARD
BEGIN:DAYLIGHT
TZOFFSETFROM:-0500
TZOFFSETTO:-0400
TZNAME:EDT
DTSTART:20220313T070000
END:DAYLIGHT
BEGIN:STANDARD
TZOFFSETFROM:-0400
TZOFFSETTO:-0500
TZNAME:EST
DTSTART:20221106T060000
END:STANDARD
END:VTIMEZONE
BEGIN:VEVENT
DTSTART;TZID=America/New_York:20210323T130000
DTEND;TZID=America/New_York:20210323T143000
DTSTAMP:20260420T064216
CREATED:20210218T181325Z
LAST-MODIFIED:20210218T181325Z
UID:14081-1616504400-1616509800@psdconsulting.com
SUMMARY:(R1.1) ECCCNYS Residential Enforcement (Part 1): Plan Review in 15 Minutes or Less
DESCRIPTION:
URL:https://psdconsulting.com/calendar/r1-1-ecccnys-residential-enforcement-part-1-plan-review-in-15-minutes-or-less-6/
LOCATION:ONLINE – WEBINAR
CATEGORIES:New York Energy Code Training
END:VEVENT
BEGIN:VEVENT
DTSTART;TZID=America/New_York:20210323T144500
DTEND;TZID=America/New_York:20210323T161500
DTSTAMP:20260420T064216
CREATED:20210218T181426Z
LAST-MODIFIED:20210218T181426Z
UID:14083-1616510700-1616516100@psdconsulting.com
SUMMARY:(R1.2) ECCCNYS Residential Enforcement (Part 2): Inspection in 15 Minutes or Less
DESCRIPTION:
URL:https://psdconsulting.com/calendar/r1-2-ecccnys-residential-enforcement-part-2-inspection-in-15-minutes-or-less-6/
LOCATION:ONLINE – WEBINAR
CATEGORIES:New York Energy Code Training
END:VEVENT
END:VCALENDAR