BEGIN:VCALENDAR
VERSION:2.0
PRODID:-//PSD - ECPv6.15.11//NONSGML v1.0//EN
CALSCALE:GREGORIAN
METHOD:PUBLISH
X-WR-CALNAME:PSD
X-ORIGINAL-URL:https://psdconsulting.com
X-WR-CALDESC:Events for PSD
REFRESH-INTERVAL;VALUE=DURATION:PT1H
X-Robots-Tag:noindex
X-PUBLISHED-TTL:PT1H
BEGIN:VTIMEZONE
TZID:America/New_York
BEGIN:DAYLIGHT
TZOFFSETFROM:-0500
TZOFFSETTO:-0400
TZNAME:EDT
DTSTART:20200308T070000
END:DAYLIGHT
BEGIN:STANDARD
TZOFFSETFROM:-0400
TZOFFSETTO:-0500
TZNAME:EST
DTSTART:20201101T060000
END:STANDARD
BEGIN:DAYLIGHT
TZOFFSETFROM:-0500
TZOFFSETTO:-0400
TZNAME:EDT
DTSTART:20210314T070000
END:DAYLIGHT
BEGIN:STANDARD
TZOFFSETFROM:-0400
TZOFFSETTO:-0500
TZNAME:EST
DTSTART:20211107T060000
END:STANDARD
BEGIN:DAYLIGHT
TZOFFSETFROM:-0500
TZOFFSETTO:-0400
TZNAME:EDT
DTSTART:20220313T070000
END:DAYLIGHT
BEGIN:STANDARD
TZOFFSETFROM:-0400
TZOFFSETTO:-0500
TZNAME:EST
DTSTART:20221106T060000
END:STANDARD
END:VTIMEZONE
BEGIN:VEVENT
DTSTART;TZID=America/New_York:20210503T100000
DTEND;TZID=America/New_York:20210507T143000
DTSTAMP:20260423T052225
CREATED:20200610T193123Z
LAST-MODIFIED:20210209T195627Z
UID:13339-1620036000-1620397800@psdconsulting.com
SUMMARY:ENERGY STAR Certified New Homes AND Multifamily New Construction
DESCRIPTION:May 3rd-7th\, 10 a.m. – 2:30 p.m. \nTo begin or maintain an active partnership with ENERGY STAR\, an organization must have at least one individual on staff who is a certified Rater and has completed the required training through an accredited training provider. This training combines the ENERGY STAR Certified Homes Version 3 training with the Multifamily New Construction ENERGY STAR Version 1 Training required by January 1\, 2020. This training meets this requirement\, and will earn you enough PDHs to renew your Rater Certification for 3 years!
URL:https://psdconsulting.com/calendar/energy-star-certified-new-homes-and-multifamily-new-construction/
LOCATION:Online – ENERGY STAR Certified New Homes AND Multifamily New Construction
END:VEVENT
BEGIN:VEVENT
DTSTART;TZID=America/New_York:20210505T083000
DTEND;TZID=America/New_York:20210505T100000
DTSTAMP:20260423T052225
CREATED:20210324T210725Z
LAST-MODIFIED:20210324T210725Z
UID:14269-1620203400-1620208800@psdconsulting.com
SUMMARY:(R2.1) ECCCNYS Residential Envelope (Part 1): Air Sealing to 3 ACH50
DESCRIPTION:NYSERDA Energy Code Training provided by Performance Systems Development \nCOST:\nCode Officials: Free (Use discount code provided in PSD marketing email or contact Jim Pisani at jpisani@psdconsulting.com to receive a code)\nAll Others: $15.00 \nCONTINUING EDUCATION:\nArchitects: 1.5 AIA LU | HSW\nHome Performance Contractors: 1.5 BPI CEUs\nCode Enforcement Officials: 1.5 NYS DOS In-Service Hours \nTo receive credit\, participants must log into the GoToWebinar application within the first 15 minutes of the training and stay until the end of the webinar. VIDEO VIEWING IS REQUIRED! \nCOURSE DESCRIPTION:\nRelevant market research\, including the DOE Residential Field Study\, revealed significant noncompliance with 3 ACH50\, and multiple other field studies in nearby geographies and uncovered lack of proper insulation installation. This webinar training covers air sealing\, air barriers\, blower-door testing\, identification of potential leakage sites in CAD details\, 3D graphics\, and photographs\, for single family residential including other issues\, such as party walls\, in low-rise multifamily. This webinar is Part 1 of a two-part series on energy code envelope requirements. Both webinars include test-your-knowledge questions\, and guided discussion of pros/cons of various strategies. \nLearning Objectives:\nAttendees will be able to…\n1. Understand how to review\, install\, and inspect details necessary to achieve an envelope leakage rate of 3 ACH50 or less\n2. Differentiate between several air sealing techniques\n3. Identify and resolve common leakage areas like window and door penetrations\, attic knee walls\, recessed lighting trim kits\, townhouse party walls\, garage floor separation\, behind tubs\, showers\, and mechanical/electrical/plumbing penetrations\n4. Understand code requirements for air sealing from the 2020 ECCCNYS Table 402.4.1.1 Air Barrier and Insulation Installation.
URL:https://psdconsulting.com/calendar/r2-1-ecccnys-residential-envelope-part-1-air-sealing-to-3-ach50-9/
LOCATION:ONLINE – WEBINAR
CATEGORIES:New York Energy Code Training
END:VEVENT
BEGIN:VEVENT
DTSTART;TZID=America/New_York:20210505T100000
DTEND;TZID=America/New_York:20210507T143000
DTSTAMP:20260423T052225
CREATED:20200407T162027Z
LAST-MODIFIED:20210209T213526Z
UID:13001-1620208800-1620397800@psdconsulting.com
SUMMARY:ENERGY STAR Multifamily New Construction Rater Training
DESCRIPTION:May 5th-7th\, 10 a.m.-2:30 p.m. (test May 7th following class) \nTo begin or maintain an active partnership with ENERGY STAR\, an organization must have at least one individual on staff who is a certified Rater and has completed the required training through an accredited training provider. Effective January 1st 2020\, Raters must complete the MFNC Version 1 Training prior to certifying projects in the new Multifamily New Construction ENERGY STAR program. This training meets this requirement\, and will earn you enough PDHs to renew your Rater Certification for 3 years!
URL:https://psdconsulting.com/calendar/energy-star-multifamily-new-construction-rater-training-2/
LOCATION:Online – ENERGY STAR Multifamily New Construction Rater Training
END:VEVENT
BEGIN:VEVENT
DTSTART;TZID=America/New_York:20210505T101500
DTEND;TZID=America/New_York:20210505T114500
DTSTAMP:20260423T052225
CREATED:20210324T210852Z
LAST-MODIFIED:20210324T210852Z
UID:14271-1620209700-1620215100@psdconsulting.com
SUMMARY:(R2.2) ECCCNYS Residential Envelope (Part 2): Other Requirements
DESCRIPTION:NYSERDA Energy Code Training provided by Performance Systems Development \nCOST:\nCode Officials: Free (Use discount code provided in PSD marketing email or contact Jim Pisani at jpisani@psdconsulting.com to receive a code)\nAll Others: $15.00 \nCONTINUING EDUCATION:\nArchitects: 1.5 AIA LU | HSW\nHome Performance Contractors: 1.5 BPI CEUs\nCode Enforcement Officials: 1.5 NYS DOS In-Service Hours \nTo receive credit\, participants must log into the GoToWebinar application within the first 15 minutes of the training and stay until the end of the webinar. VIDEO VIEWING IS REQUIRED! \nCOURSE DESCRIPTION:\nRelevant market research\, including the DOE Residential Field Study\, revealed significant noncompliance with 3 ACH50\, and multiple other field studies in nearby geographies uncovered lack of proper insulation installation. This webinar training covers energy code insulation installation requirements\, and includes mock-ups\, identification and potential problem sites in CAD details\, 3D graphics\, and photographs for single family residential and other issues\, such as party walls in low-rise multifamily. This webinar is Part 2 of a two-part series and includes test-your-knowledge questions\, and guided discussion of pros/cons of various strategies. \nLearning Objectives\nAttendees will be able to…\n1: Understand how to review\, install\, and inspect details necessary to achieve envelope insulation requirements\n2: Differentiate between several insulation techniques\n3: Identify and resolve common problem areas such as cold corners\n4: Understand code requirements for insulation installation from the 2020 ECCCNYS Table 402.4.1.1 Air Barrier and Insulation Installation.
URL:https://psdconsulting.com/calendar/r2-2-ecccnys-residential-envelope-part-2-other-requirements-9/
LOCATION:ONLINE – WEBINAR
CATEGORIES:New York Energy Code Training
END:VEVENT
END:VCALENDAR