BEGIN:VCALENDAR
VERSION:2.0
PRODID:-//PSD - ECPv6.15.11//NONSGML v1.0//EN
CALSCALE:GREGORIAN
METHOD:PUBLISH
X-WR-CALNAME:PSD
X-ORIGINAL-URL:https://psdconsulting.com
X-WR-CALDESC:Events for PSD
REFRESH-INTERVAL;VALUE=DURATION:PT1H
X-Robots-Tag:noindex
X-PUBLISHED-TTL:PT1H
BEGIN:VTIMEZONE
TZID:America/New_York
BEGIN:DAYLIGHT
TZOFFSETFROM:-0500
TZOFFSETTO:-0400
TZNAME:EDT
DTSTART:20210314T070000
END:DAYLIGHT
BEGIN:STANDARD
TZOFFSETFROM:-0400
TZOFFSETTO:-0500
TZNAME:EST
DTSTART:20211107T060000
END:STANDARD
BEGIN:DAYLIGHT
TZOFFSETFROM:-0500
TZOFFSETTO:-0400
TZNAME:EDT
DTSTART:20220313T070000
END:DAYLIGHT
BEGIN:STANDARD
TZOFFSETFROM:-0400
TZOFFSETTO:-0500
TZNAME:EST
DTSTART:20221106T060000
END:STANDARD
BEGIN:DAYLIGHT
TZOFFSETFROM:-0500
TZOFFSETTO:-0400
TZNAME:EDT
DTSTART:20230312T070000
END:DAYLIGHT
BEGIN:STANDARD
TZOFFSETFROM:-0400
TZOFFSETTO:-0500
TZNAME:EST
DTSTART:20231105T060000
END:STANDARD
END:VTIMEZONE
BEGIN:VEVENT
DTSTART;TZID=America/New_York:20220216T090000
DTEND;TZID=America/New_York:20220216T100000
DTSTAMP:20260420T225828
CREATED:20220215T042249Z
LAST-MODIFIED:20220215T185410Z
UID:15671-1645002000-1645005600@psdconsulting.com
SUMMARY:MA R.1.1 Solar Ready Provisions of the 9th Edition and IECC Updates (PRIVATE EVENT - Town of Wareham)
DESCRIPTION:Make sure to use the GoToWebinar link to obtain video access\, this is required and verified for CEU credit. VIDEO VIEWING IS REQUIRED! \nCEU’s: 1 AIA\, 1 BPI\, 1 CSL\, 1 Building official \nResidential Webinar – Solar Ready Provisions of the 9th Edition and IECC Updates \nCOURSE DESCRIPTION:\nThe 9th Edition of the Massachusetts State Building Code (780 CMR) became mandatory on January 1\, 2018\, following a concurrency period from October 20 to December 31\, 2017. This course\, intended for code enforcement officials\, contractors\, and design professionals\, will address 9th Edition updates\, changes between the 2012 and 2015 IECC\, and the “Top 10” commercial energy code compliance issues. The biggest 9th Edition changes include COMcheck documentation for all projects and solar-ready provisions. Additional topics include air barrier construction\, mechanical and lighting system commissioning\, and “additional efficiency packages”. \nLEARNING OBJECTIVES:\nLearning Objective 1:\nExplain the solar-ready requirements of the Massachusetts amended energy code \nLearning Objective 2:\nDiscuss significant changes between the 2012 IECC and the 2015 IECC \nLearning Objective 3:\nIdentify change between Massachusetts’ original stretch energy code and the current stretch energy code \nLearning Objective 4:\nDiscuss the 2015 IECC Energy Rater Index (ERI) option for energy code compliance
URL:https://psdconsulting.com/calendar/ma-r-1-1-solar-ready-provisions-of-the-9th-edition-and-iecc-updates/
LOCATION:ONLINE – WEBINAR
CATEGORIES:PRIVATE EVENT
ATTACH;FMTTYPE=image/jpeg:https://psdconsulting.com/wp-content/uploads/2021/11/mass-save-campaign-e1641940204537.jpg
END:VEVENT
BEGIN:VEVENT
DTSTART;TZID=America/New_York:20220216T100500
DTEND;TZID=America/New_York:20220216T110500
DTSTAMP:20260420T225828
CREATED:20220215T042416Z
LAST-MODIFIED:20220215T185346Z
UID:15673-1645005900-1645009500@psdconsulting.com
SUMMARY:MA R1.2 3rd Party Residential Energy Code Verification (PRIVATE EVENT- Town of Wareham)
DESCRIPTION:Make sure to use the GoToWebinar link to obtain video access\, this is required and verified for CEU credit. VIDEO VIEWING IS REQUIRED! \nCEU’s: 1 AIA\, 1 BPI\, 1 CSL\, 1 Building official \nResidential Webinar – 3rd Party Residential Energy Code Verification \nCOURSE DESCRIPTION:\nBuilding inspectors cannot directly verify every aspect of the code\, but luckily\, there are experienced energy professionals who can provide verification of the most important energy code requirements. This course covers critical documentation including reports for ERI/HERS\, the Simulated Performance Alternative\, mechanical ventilation airflow\, duct leakage testing\, and blower door testing reports\, and air barrier and insulation installation checklists. The presenter will review example verification forms\, interpreting essential data\, and keeping track of this information with a one-page checklist. \nLEARNING OBJECTIVES:\nLearning Objective 1:\nExplain the energy code documentation requirements in order to obtain a building permit \nLearning Objective 2:\nReview various energy code compliance tools and checklists available \nLearning Objective 3:\nDiscuss third party energy code verification \nLearning Objective 4:\nExplore the use of energy code compliance software
URL:https://psdconsulting.com/calendar/ma-r1-2-3rd-party-residential-energy-code-verification/
LOCATION:ONLINE – WEBINAR
CATEGORIES:PRIVATE EVENT
ATTACH;FMTTYPE=image/jpeg:https://psdconsulting.com/wp-content/uploads/2021/11/mass-save-campaign-e1641940204537.jpg
END:VEVENT
BEGIN:VEVENT
DTSTART;TZID=America/New_York:20220216T111000
DTEND;TZID=America/New_York:20220216T121000
DTSTAMP:20260420T225828
CREATED:20220215T042628Z
LAST-MODIFIED:20220215T185435Z
UID:15676-1645009800-1645013400@psdconsulting.com
SUMMARY:MA R1.3 The Energy Code and Additions\, Alteration\, and Repairs (PRIVATE EVENT - Town of Wareham)
DESCRIPTION:Make sure to use the GoToWebinar link to obtain video access\, this is required and verified for CEU credit. VIDEO VIEWING IS REQUIRED! \nCEU’s: 1 AIA\, 1 BPI\, 1 CSL\, 1 Building official \nResidential Webinar – The Energy Code and Additions\, Alteration\, and Repairs \nCOURSE DESCRIPTION:\nResidential renovations\, alterations\, repairs\, and additions make up the largest proportion of building permit applications; yet confusion abounds as to how the energy code applies such as when duct testing is required\, how should ducts be insulated\, and blower door testing requirement for additions. This course will cover several of the most common types of existing home projects and describe the applicability of the most important energy code provisions. \nLEARNING OBJECTIVES:\nLearning Objective 1:\nCompare Massachusetts stretch energy code requirements for existing buildings to the base energy code requirements for existing buildings \nLearning Objective 2:\nDiscuss the energy code requirements for additions \nLearning Objective 3:\nDiscuss the energy code requirements for alterations \nLearning Objective 4:\nDiscuss the energy code requirements for change of occupancy
URL:https://psdconsulting.com/calendar/ma-r1-3-the-energy-code-and-additions-alteration-and-repairs/
LOCATION:ONLINE – WEBINAR
CATEGORIES:PRIVATE EVENT
ATTACH;FMTTYPE=image/jpeg:https://psdconsulting.com/wp-content/uploads/2021/11/mass-save-campaign-e1641940204537.jpg
END:VEVENT
BEGIN:VEVENT
DTSTART;TZID=America/New_York:20220216T130000
DTEND;TZID=America/New_York:20220216T143000
DTSTAMP:20260420T225828
CREATED:20211228T212102Z
LAST-MODIFIED:20220216T161448Z
UID:15365-1645016400-1645021800@psdconsulting.com
SUMMARY:(R2.1) Residential - Air Sealing to 3 ACH50 (Part 1)
DESCRIPTION:NOTE: To attend this session\, registrants must log in using Web browsers Google Chrome or Mozilla Firefox (most recent 2 versions)\nClick Here for Full Attendee System Requirements\n\n*2/16/2022 – SOLD OUT* Please choose the next offering.\nNYSERDA Energy Code Training provided by Performance Systems Development \nResidential – Air Sealing to 3 ACH50 (R2.1) Part 1 T02-07-2843 \nCOST:\nFree registration for New York Code Officials.*\nUse discount code: NYCEO\n*For use by New York Code Officials only.\nAll Others: $15.00 \nCONTINUING EDUCATION:\nArchitects: 1.5 AIA LU | HSW\nHome Performance Contractors: 1.5 BPI CEUs\nCode Enforcement Officials: 1.5 NYS DOS In-Service Hours \nTo receive credit\, participants must log into the GoToWebinar application within the first 15 minutes of the training and stay until the end of the webinar. VIDEO VIEWING IS REQUIRED! \nCOURSE DESCRIPTION\nRelevant market research\, including the DOE Residential Field Study\, revealed significant noncompliance with 3 ACH50\, and multiple other field studies in nearby geographies and uncovered lack of proper insulation installation. This webinar training covers air sealing\, air barriers\, blower-door testing\, identification of potential leakage sites in CAD details\, 3D graphics\, and photographs\, for single family residential including other issues\, such as party walls\, in low-rise multifamily. This webinar is Part 1 of a two-part series on energy code envelope requirements. Both webinars include test-your-knowledge questions\, and guided discussion of pros/cons of various strategies. \nLearning Objectives:\n1. Understand how to review\, install\, and inspect details necessary to achieve an envelope leakage rate of 3 ACH50 or less\n2. Differentiate between several air sealing techniques\n3. Identify and resolve common leakage areas\n4. Understand code requirements for air sealing from the 2020 ECCCNYS Table 402.4.1.1 Air Barrier and Insulation Installation.
URL:https://psdconsulting.com/calendar/r2-1-residential-air-sealing-to-3-ach50-part-1-6/
LOCATION:ONLINE – WEBINAR
CATEGORIES:New York Energy Code Training
END:VEVENT
BEGIN:VEVENT
DTSTART;TZID=America/New_York:20220216T144500
DTEND;TZID=America/New_York:20220216T161500
DTSTAMP:20260420T225828
CREATED:20211228T212535Z
LAST-MODIFIED:20220216T205916Z
UID:15367-1645022700-1645028100@psdconsulting.com
SUMMARY:(R2.2) Residential - Other NYSECCC Envelope Requirements (Pt 2)
DESCRIPTION:NOTE: To attend this session\, registrants must log in using Web browsers Google Chrome or Mozilla Firefox (most recent 2 versions)\nClick Here for Full Attendee System Requirements\n\n*2/16/2022 – SOLD OUT* Please choose the next offering.\nNYSERDA Energy Code Training provided by Performance Systems Development \nResidential – Other NYSECCC Envelope Requirements (R2.2) T02-07-2849 \nCOST:\nFree registration for New York Code Officials.*\nUse discount code: NYCEO\n*For use by New York Code Officials only.\nAll Others: $15.00 \nCONTINUING EDUCATION:\nArchitects: 1.5 AIA LU | HSW\nHome Performance Contractors: 1.5 BPI CEUs\nCode Enforcement Officials: 1.5 NYS DOS In-Service Hours \nTo receive credit\, participants must log into the GoToWebinar application within the first 15 minutes of the training and stay until the end of the webinar. VIDEO VIEWING IS REQUIRED! \nCOURSE DESCRIPTION\nRelevant market research\, including the DOE Residential Field Study\, revealed significant noncompliance with 3 ACH50\, and multiple other field studies in nearby geographies uncovered lack of proper insulation installation. This webinar training covers energy code insulation installation requirements\, and includes mock-ups\, identification and potential problem sites in CAD details\, 3D graphics\, and photographs for single family residential and other issues\, such as party walls in low-rise multifamily. This webinar is Part 2 of a two-part series and includes test-your-knowledge questions\, and guided discussion of pros/cons of various strategies. \nLearning Objectives\n1: Understand how to review\, install\, and inspect details necessary to achieve envelope insulation requirements\n2: Differentiate between several insulation techniques\n3: Identify and resolve common problem areas such as cold corners\n4: Understand code requirements for insulation installation from the 2020 ECCCNYS Table 402.4.1.1 Air Barrier and Insulation Installation.
URL:https://psdconsulting.com/calendar/r2-2-residential-other-nyseccc-envelope-requirements-pt-2-3/
LOCATION:ONLINE – WEBINAR
CATEGORIES:New York Energy Code Training
END:VEVENT
END:VCALENDAR