BEGIN:VCALENDAR
VERSION:2.0
PRODID:-//PSD - ECPv6.15.11//NONSGML v1.0//EN
CALSCALE:GREGORIAN
METHOD:PUBLISH
X-ORIGINAL-URL:https://psdconsulting.com
X-WR-CALDESC:Events for PSD
REFRESH-INTERVAL;VALUE=DURATION:PT1H
X-Robots-Tag:noindex
X-PUBLISHED-TTL:PT1H
BEGIN:VTIMEZONE
TZID:America/New_York
BEGIN:DAYLIGHT
TZOFFSETFROM:-0500
TZOFFSETTO:-0400
TZNAME:EDT
DTSTART:20210314T070000
END:DAYLIGHT
BEGIN:STANDARD
TZOFFSETFROM:-0400
TZOFFSETTO:-0500
TZNAME:EST
DTSTART:20211107T060000
END:STANDARD
BEGIN:DAYLIGHT
TZOFFSETFROM:-0500
TZOFFSETTO:-0400
TZNAME:EDT
DTSTART:20220313T070000
END:DAYLIGHT
BEGIN:STANDARD
TZOFFSETFROM:-0400
TZOFFSETTO:-0500
TZNAME:EST
DTSTART:20221106T060000
END:STANDARD
BEGIN:DAYLIGHT
TZOFFSETFROM:-0500
TZOFFSETTO:-0400
TZNAME:EDT
DTSTART:20230312T070000
END:DAYLIGHT
BEGIN:STANDARD
TZOFFSETFROM:-0400
TZOFFSETTO:-0500
TZNAME:EST
DTSTART:20231105T060000
END:STANDARD
END:VTIMEZONE
BEGIN:VEVENT
DTSTART;TZID=America/New_York:20220330T083000
DTEND;TZID=America/New_York:20220330T100000
DTSTAMP:20260424T025843
CREATED:20211228T233428Z
LAST-MODIFIED:20211228T233428Z
UID:15430-1648629000-1648634400@psdconsulting.com
SUMMARY:(R3.1) Residential Mechanical Systems: Whole House Ventilation (Pt 1)
DESCRIPTION:NOTE: To attend this session\, registrants must log in using Web browsers Google Chrome or Mozilla Firefox (most recent 2 versions)\nClick Here for Full Attendee System Requirements\n\nNYSERDA Energy Code Training provided by Performance Systems Development \nR3.1 Residential Mechanical Systems: Whole House Ventilation Part 1 T02-07-2857 \nCOST:\nFree registration for New York Code Officials.*\nUse discount code: NYCEO\n*For use by New York Code Officials only.\nAll Others: $15.00 \nCONTINUING EDUCATION:\nArchitects: 1.5 AIA LU | HSW\nHome Performance Contractors: 1.5 BPI CEUs\nCode Enforcement Officials: 1.5 NYS DOS In-Service Hours \nTo receive credit\, participants must log into the GoToWebinar application within the first 15 minutes of the training and stay until the end of the webinar. VIDEO VIEWING IS REQUIRED! \nCOURSE DESCRIPTION\nBuild Tight\, Ventilate Right Background\nBuilding Tight: Why?\nVentilating Right: Why and How?\nVentilation Codes and Standards\nVentilation Types: Pros and Cons
URL:https://psdconsulting.com/calendar/r3-1-residential-mechanical-systems-whole-house-ventilation-pt-1-5/
LOCATION:ONLINE – WEBINAR
CATEGORIES:New York Energy Code Training
END:VEVENT
BEGIN:VEVENT
DTSTART;TZID=America/New_York:20220330T101500
DTEND;TZID=America/New_York:20220330T234500
DTSTAMP:20260424T025843
CREATED:20220110T203834Z
LAST-MODIFIED:20220323T173400Z
UID:15451-1648635300-1648683900@psdconsulting.com
SUMMARY:(R3.2) Residential: Efficient Forced Air Distribution (Pt 2)
DESCRIPTION:NOTE: To attend this session\, registrants must log in using Web browsers Google Chrome or Mozilla Firefox (most recent 2 versions)\nClick Here for Full Attendee System Requirements\n\nNYSERDA Energy Code Training provided by Performance Systems Development \nR3.2 Residential: Efficient Forced Air Distribution Part 2 T02-07-2862 \nCOST:\nFree registration for New York Code Officials.*\nUse discount code: NYCEO\n*For use by New York Code Officials only.\nAll Others: $15.00 \nCONTINUING EDUCATION:\nArchitects: 1.5 AIA LU | HSW\nHome Performance Contractors: 1.5 BPI CEUs\nCode Enforcement Officials: 1.5 NYS DOS In-Service Hours \nTo receive credit\, participants must log into the GoToWebinar application within the first 15 minutes of the training and stay until the end of the webinar. VIDEO VIEWING IS REQUIRED! \nCOURSE DESCRIPTION\nIn this course attendees will understand the importance of duct testing\, sealing\, and installation on the total performance of a house heating and cooling system. Attendees will be able to distinguish various code requirements based on duct proximity to the building thermal envelope. In addition\, attendees will learn duct insulation requirements and methods. Attendees will be introduced to a customizable Duct and Envelope Testing (DET) reporting form to make demonstrating code compliance straightforward and efficient. \nLearning Objectives:\n1. Understand the consequences of leaky duct systems\n2. Understand how to achieve tight ducts\n3. Identify and resolve other common duct installation problems\n4. Utilize the provided duct and envelope testing (DET) form to document or verify compliance with duct testing requirements
URL:https://psdconsulting.com/calendar/r3-2-residential-efficient-forced-air-distribution-pt-2-10/
LOCATION:ONLINE – WEBINAR
CATEGORIES:New York Energy Code Training
END:VEVENT
BEGIN:VEVENT
DTSTART;TZID=America/New_York:20220330T130000
DTEND;TZID=America/New_York:20220330T140000
DTSTAMP:20260424T025843
CREATED:20211111T200930Z
LAST-MODIFIED:20220111T224048Z
UID:15112-1648645200-1648648800@psdconsulting.com
SUMMARY:(R1.1) Solar Ready Provisions of the 9th Edition and IECC Updates
DESCRIPTION:Make sure to use the GoToWebinar link to obtain video access\, this is required and verified for CEU credit. VIDEO VIEWING IS REQUIRED! \nCEU’s: 1 AIA\, 1 BPI\, 1 CSL\, 1 Building official \nResidential Webinar – Solar Ready Provisions of the 9th Edition and IECC Updates\nCOURSE DESCRIPTION: This module will review new code provisions in the Massachusetts 9th Edition and significant changes between the 2015 and 2018 IECC. The first portion of the program covers new solar-ready provisions including scope\, solar-ready rooftop area requirements\, exceptions\, roof orientations\, documentation\, interconnection pathways and roof loads\, and electrical requirements. Next the program will cover changes to duct insulation\, hot water piping\, duct leakage\, whole-house mechanical ventilation and related MA amendments. Finally\, the presenter will discuss the Energy Rating Index (ERI) compliance path and the Stretch Code. \nLEARNING OBJECTIVES\nSolar Ready\n2018 IECC changes\nERI Compliance Paths
URL:https://psdconsulting.com/calendar/r1-1-solar-ready-provisions-of-the-9th-edition-and-iecc-updates/
LOCATION:ONLINE – WEBINAR
ATTACH;FMTTYPE=image/jpeg:https://psdconsulting.com/wp-content/uploads/2021/11/mass-save-campaign-e1641940204537.jpg
END:VEVENT
BEGIN:VEVENT
DTSTART;TZID=America/New_York:20220330T140500
DTEND;TZID=America/New_York:20220330T150500
DTSTAMP:20260424T025843
CREATED:20211111T201058Z
LAST-MODIFIED:20220111T224125Z
UID:15114-1648649100-1648652700@psdconsulting.com
SUMMARY:(C2.2) COMcheck Case Study – Simple Commercial Building Case Study
DESCRIPTION:Make sure to use the GoToWebinar link to obtain video access\, this is required and verified for CEU credit. VIDEO VIEWING IS REQUIRED! \nCEU’s: 1 CSL\, 1AIA\, I BPI\, 1 Code Official \nCommercial Webinar – COMcheck Case Study – Simple Commercial Building Case Study \nCOURSE DESCRIPTION \nCOMcheck is most often used as a compliance tool for simple commercial buildings and it is easily adapted to renovations. As of January 1\, 2018\, COMcheck report submittals are required by the Massachusetts 9th Edition and its Energy Code. In this course\, through the lens of a simple building case study\, attendees will learn about entering data into COMcheck and conducting a simple commercial plan review for code compliance. The presentation will highlight the most commonly observed entry errors and inconsistencies\, including reference to building plans and specifications. Finally\, the instructor will prepare attendees to conduct site inspections using the site inspection checklist tool. \nLEARNING OBJECTIVES:\nHow to use COMcheck
URL:https://psdconsulting.com/calendar/c2-1-comcheck-101-a-new-energy-code-requirement-made-easy-2/
LOCATION:ONLINE – WEBINAR
ATTACH;FMTTYPE=image/jpeg:https://psdconsulting.com/wp-content/uploads/2021/11/mass-save-campaign-e1641940204537.jpg
END:VEVENT
BEGIN:VEVENT
DTSTART;TZID=America/New_York:20220330T170000
DTEND;TZID=America/New_York:20220330T180000
DTSTAMP:20260424T025843
CREATED:20220125T201305Z
LAST-MODIFIED:20220316T204424Z
UID:15544-1648659600-1648663200@psdconsulting.com
SUMMARY:MA - R2.3 Duct Sealing\, Testing\, and Design (PRIVATE EVENT - Martha’s Vineyard)
DESCRIPTION:Make sure to use the GoToWebinar link to obtain video access\, this is required and verified for CEU credit. VIDEO VIEWING IS REQUIRED! \nCEU’s: 1 CSL\, 1AIA\, I BPI\, 1 Code Official \nResidential Webinar – Duct Sealing\, Testing\, and Design \nCOURSE DESCRIPTION:\nAccording to the 2015-16 study on single-family residential homes\, over 90% of all homes studied had all or portion of duct systems in unconditioned space which means all these homes would require duct testing and portions outside conditioned space should be insulated. This course discusses code requirements for duct testing\, prescriptive duct leakage requirements\, duct insulation and sealing requirements. With a discussion on best practices in duct insulation\, the presenter will discuss Manual D which is a process to design duct systems and required by code. \nLEARNING OBJECTIVES: ​\n1: Discuss the use of ACCA Manual D\n2: Explain how a duct leakage test is performed\n3: Describe the requirements for duct sealing and discuss the proper materials for duct sealing\n4: Identify the insulation requirements for duct insulation
URL:https://psdconsulting.com/calendar/ma-r2-3-duct-sealing-testing-and-design/
CATEGORIES:PRIVATE EVENT
ATTACH;FMTTYPE=image/jpeg:https://psdconsulting.com/wp-content/uploads/2021/11/mass-save-campaign-e1641940204537.jpg
END:VEVENT
END:VCALENDAR