BEGIN:VCALENDAR
VERSION:2.0
PRODID:-//PSD - ECPv6.15.11//NONSGML v1.0//EN
CALSCALE:GREGORIAN
METHOD:PUBLISH
X-ORIGINAL-URL:https://psdconsulting.com
X-WR-CALDESC:Events for PSD
REFRESH-INTERVAL;VALUE=DURATION:PT1H
X-Robots-Tag:noindex
X-PUBLISHED-TTL:PT1H
BEGIN:VTIMEZONE
TZID:America/New_York
BEGIN:DAYLIGHT
TZOFFSETFROM:-0500
TZOFFSETTO:-0400
TZNAME:EDT
DTSTART:20220313T070000
END:DAYLIGHT
BEGIN:STANDARD
TZOFFSETFROM:-0400
TZOFFSETTO:-0500
TZNAME:EST
DTSTART:20221106T060000
END:STANDARD
BEGIN:DAYLIGHT
TZOFFSETFROM:-0500
TZOFFSETTO:-0400
TZNAME:EDT
DTSTART:20230312T070000
END:DAYLIGHT
BEGIN:STANDARD
TZOFFSETFROM:-0400
TZOFFSETTO:-0500
TZNAME:EST
DTSTART:20231105T060000
END:STANDARD
BEGIN:DAYLIGHT
TZOFFSETFROM:-0500
TZOFFSETTO:-0400
TZNAME:EDT
DTSTART:20240310T070000
END:DAYLIGHT
BEGIN:STANDARD
TZOFFSETFROM:-0400
TZOFFSETTO:-0500
TZNAME:EST
DTSTART:20241103T060000
END:STANDARD
END:VTIMEZONE
BEGIN:VEVENT
DTSTART;TZID=America/New_York:20230711T083000
DTEND;TZID=America/New_York:20230711T100000
DTSTAMP:20260421T001905
CREATED:20230526T161118Z
LAST-MODIFIED:20230526T161118Z
UID:20359-1689064200-1689069600@psdconsulting.com
SUMMARY:(C4.1) Electrifying the Energy Code - Commercial
DESCRIPTION:NYSERDA Energy Code Training provided by Performance Systems Development \nC4.1- Electrifying the Energy Code T02-07-3134 \nCOST:\nFree registration for New York Code Officials.*\nUse discount code: NYCEO\n*For use by New York Code Officials only.\nAll Others: $15.00 \nCONTINUING EDUCATION:\nArchitects: 1.5 AIA LU | HSW\nHome Performance Contractors: 1.5 BPI CEUs\nCode Enforcement Officials: 1.5 NYS DOS In-Service Hours \nTo receive credit\, participants must log into the GoToWebinar application within the first 15 minutes of the training and stay until the end of the webinar. VIDEO VIEWING IS REQUIRED! \nCOURSE DESCRIPTION:\nThe first part of the program will cover IECC Appendix CA: Solar-Ready Zone along with related requirements including mandatory access and set back areas required by the Fire Code of New York State in Section 1204 Solar Photovoltaic Power Systems. This section will also discuss what it means to include a “collateral dead load” in gravity and lateral design calculations for the roof. \nLearning Objectives:\n1- Describe the concept of beneficial electrification\n2- Identify and describe energy code provisions that promote beneficial electrification\n3- Understand relevant requirements from the Fire Code of New York State\n4- Describe the various systems involved in NYStretch Appendix CC: Additional Power Distribution Packages.
URL:https://psdconsulting.com/calendar/c4-1-electrifying-the-energy-code-commercial-3/
LOCATION:ONLINE – WEBINAR
CATEGORIES:Commercial,New York Energy Code Training
END:VEVENT
BEGIN:VEVENT
DTSTART;TZID=America/New_York:20230711T090000
DTEND;TZID=America/New_York:20230711T120000
DTSTAMP:20260421T001905
CREATED:20230615T180244Z
LAST-MODIFIED:20230615T181033Z
UID:20416-1689066000-1689076800@psdconsulting.com
SUMMARY:The 2018 IECC for Pennsylvania - Commercial
DESCRIPTION:Description:\nThe 2018 IECC went into effect on February 14\, 2022\, bringing with it an annual savings of up to 14 percent. This training will include a high-level review of building science concepts including basic thermodynamics (how heat moves)\, including stack effect\, and conditions that result in optimum occupant comfort and productivity. The program will focus on high-impact energy code provisions and items with relatively high noncompliance as found by a recent PNNL commercial energy efficiency field study. Specific topics will include envelope insulation and air sealing\, mechanical system control configurations\, economizers\, kitchen ventilation\, energy recovery ventilation\, demand control ventilation\, and lighting controls. These topics will be framed in terms of entering and reviewing COMcheck inputs and outputs for accuracy regarding the submitted construction documents. Instructors will also present the use of example checklists throughout the program. \nLearning objectives:\n1- Identify significant changes between the 2015 and 2018 IECC\n2- Describe the science behind building energy efficiency and occupant comfort and productivity\n3- Identify the energy code provisions with high impact but low compliance rates\n4- Describe mechanical system and lighting control configuration requirements \nContinuing education: Three (3) hours. PA UCC\, ICC\, AIA LU|HSW
URL:https://psdconsulting.com/calendar/pa-the-2018-iecc-for-pennsylvania-commercial/
LOCATION:ONLINE – WEBINAR
CATEGORIES:Commercial,Pennsylvania Energy Code Training
END:VEVENT
BEGIN:VEVENT
DTSTART;TZID=America/New_York:20230711T101500
DTEND;TZID=America/New_York:20230711T114500
DTSTAMP:20260421T001905
CREATED:20230526T161231Z
LAST-MODIFIED:20230526T161231Z
UID:20361-1689070500-1689075900@psdconsulting.com
SUMMARY:(C4.2) Electrifying the Energy Code - Commercial
DESCRIPTION:NYSERDA Energy Code Training provided by Performance Systems Development \nC4.2- Electrifying the Energy Code T02-07-3134 \nCOST:\nFree registration for New York Code Officials.*\nUse discount code: NYCEO\n*For use by New York Code Officials only.\nAll Others: $15.00 \nCONTINUING EDUCATION:\nArchitects: 1.5 AIA LU | HSW\nHome Performance Contractors: 1.5 BPI CEUs\nCode Enforcement Officials: 1.5 NYS DOS In-Service Hours \nTo receive credit\, participants must log into the GoToWebinar application within the first 15 minutes of the training and stay until the end of the webinar. VIDEO VIEWING IS REQUIRED! \nCOURSE DESCRIPTION:\nThe second part of the program will cover the EV Charging Station Capable requirements and provide detailed coverage of the five additional power distribution packages in NYStretch Appendix CC. A particular emphasis will be placed on how to accomplish the requirements for the more complex packages\, including electrical energy monitoring and interoperable automated demand response. \nLearning Objectives:\n1- Describe the concept of beneficial electrification\n2- Identify and describe energy code provisions that promote beneficial electrification\n3- Understand relevant requirements from the Fire Code of New York State\n4- Describe the various systems involved in NYStretch Appendix CC: Additional Power Distribution Packages.
URL:https://psdconsulting.com/calendar/c4-2-electrifying-the-energy-code-commercial-3/
LOCATION:ONLINE – WEBINAR
CATEGORIES:Commercial,New York Energy Code Training
END:VEVENT
END:VCALENDAR