BEGIN:VCALENDAR
VERSION:2.0
PRODID:-//PSD - ECPv6.15.11//NONSGML v1.0//EN
CALSCALE:GREGORIAN
METHOD:PUBLISH
X-ORIGINAL-URL:https://psdconsulting.com
X-WR-CALDESC:Events for PSD
REFRESH-INTERVAL;VALUE=DURATION:PT1H
X-Robots-Tag:noindex
X-PUBLISHED-TTL:PT1H
BEGIN:VTIMEZONE
TZID:America/New_York
BEGIN:DAYLIGHT
TZOFFSETFROM:-0500
TZOFFSETTO:-0400
TZNAME:EDT
DTSTART:20240310T070000
END:DAYLIGHT
BEGIN:STANDARD
TZOFFSETFROM:-0400
TZOFFSETTO:-0500
TZNAME:EST
DTSTART:20241103T060000
END:STANDARD
BEGIN:DAYLIGHT
TZOFFSETFROM:-0500
TZOFFSETTO:-0400
TZNAME:EDT
DTSTART:20250309T070000
END:DAYLIGHT
BEGIN:STANDARD
TZOFFSETFROM:-0400
TZOFFSETTO:-0500
TZNAME:EST
DTSTART:20251102T060000
END:STANDARD
BEGIN:DAYLIGHT
TZOFFSETFROM:-0500
TZOFFSETTO:-0400
TZNAME:EDT
DTSTART:20260308T070000
END:DAYLIGHT
BEGIN:STANDARD
TZOFFSETFROM:-0400
TZOFFSETTO:-0500
TZNAME:EST
DTSTART:20261101T060000
END:STANDARD
END:VTIMEZONE
BEGIN:VEVENT
DTSTART;TZID=America/New_York:20251125T141500
DTEND;TZID=America/New_York:20251125T154500
DTSTAMP:20260424T174832
CREATED:20251003T173626Z
LAST-MODIFIED:20251003T173626Z
UID:23025-1764080100-1764085500@psdconsulting.com
SUMMARY:C6.2 - Foam without Flames – Part 2 – Fire Rated Assemblies
DESCRIPTION:C6.2 – Foam without Flames – Part 2 – Fire Rated Assemblies \nT02-07-3237 \nCOURSE DESCRIPTION: Reducing thermal bridging is one of the keys to reducing energy waste in buildings and\, to that end\, the prescriptive energy code contains requirements for continuous insulation for roofs\, above-and below-grade walls\, and mass floors. This program will provide an overview of the thermal envelope requirements in the ECCCNYS [CE] and NYStretch [CE] as they relate to continuous insulation. This will be followed by a discussion the types of construction as categorized by the Building Code of New York State (Types I\, II\, III\, IV\, V) and associated fire-resistance rating requirements and fire separation distance requirements\, and NFPA 285 test for vertical and lateral flame spread as they relate to exterior foam applications.
URL:https://psdconsulting.com/calendar/c6-2-foam-without-flames-part-2-fire-rated-assemblies-3/
CATEGORIES:Commercial,Commercial,New York Energy Code Training
ATTACH;FMTTYPE=image/png:https://psdconsulting.com/wp-content/uploads/2023/01/new-york.png
END:VEVENT
END:VCALENDAR