BEGIN:VCALENDAR
VERSION:2.0
PRODID:-//PSD - ECPv6.15.11//NONSGML v1.0//EN
CALSCALE:GREGORIAN
METHOD:PUBLISH
X-WR-CALNAME:PSD
X-ORIGINAL-URL:https://psdconsulting.com
X-WR-CALDESC:Events for PSD
REFRESH-INTERVAL;VALUE=DURATION:PT1H
X-Robots-Tag:noindex
X-PUBLISHED-TTL:PT1H
BEGIN:VTIMEZONE
TZID:America/New_York
BEGIN:DAYLIGHT
TZOFFSETFROM:-0500
TZOFFSETTO:-0400
TZNAME:EDT
DTSTART:20230312T070000
END:DAYLIGHT
BEGIN:STANDARD
TZOFFSETFROM:-0400
TZOFFSETTO:-0500
TZNAME:EST
DTSTART:20231105T060000
END:STANDARD
BEGIN:DAYLIGHT
TZOFFSETFROM:-0500
TZOFFSETTO:-0400
TZNAME:EDT
DTSTART:20240310T070000
END:DAYLIGHT
BEGIN:STANDARD
TZOFFSETFROM:-0400
TZOFFSETTO:-0500
TZNAME:EST
DTSTART:20241103T060000
END:STANDARD
BEGIN:DAYLIGHT
TZOFFSETFROM:-0500
TZOFFSETTO:-0400
TZNAME:EDT
DTSTART:20250309T070000
END:DAYLIGHT
BEGIN:STANDARD
TZOFFSETFROM:-0400
TZOFFSETTO:-0500
TZNAME:EST
DTSTART:20251102T060000
END:STANDARD
END:VTIMEZONE
BEGIN:VEVENT
DTSTART;TZID=America/New_York:20240208T123000
DTEND;TZID=America/New_York:20240208T140000
DTSTAMP:20260423T013323
CREATED:20240126T213613Z
LAST-MODIFIED:20240130T180106Z
UID:21461-1707395400-1707400800@psdconsulting.com
SUMMARY:(R3.1) Residential Mechanical Systems: Whole House Ventilation (Pt 1)
DESCRIPTION:NYSERDA Energy Code Training provided by Performance Systems Development \nR3.1 Residential Mechanical Systems: Whole House Ventilation Part 1\nT02-07-2857 \nCOST:\nFree registration for New York Code Officials.*\nUse discount code: NYCEO\n*For use by New York Code Officials only.\nAll Others: $15.00 \nCONTINUING EDUCATION:\nArchitects: 1.5 AIA LU | HSW\nHome Performance Contractors: 1.5 BPI CEUs\nCode Enforcement Officials: 1.5 NYS DOS In-Service Hours \nTo receive credit\, participants must log into the GoToWebinar application within the first 15 minutes of the training and stay until the end of the webinar. VIDEO VIEWING IS REQUIRED! \nCOURSE DESCRIPTION\nBuild Tight\, Ventilate Right Background\nBuilding Tight: Why?\nVentilating Right: Why and How?\nVentilation Codes and Standards\nVentilation Types: Pros and Cons
URL:https://psdconsulting.com/calendar/r3-1-residential-mechanical-systems-whole-house-ventilation-pt-1-19/
LOCATION:ONLINE – WEBINAR
CATEGORIES:New York Energy Code Training,Residential
END:VEVENT
BEGIN:VEVENT
DTSTART;TZID=America/New_York:20240208T141500
DTEND;TZID=America/New_York:20240208T154500
DTSTAMP:20260423T013323
CREATED:20240126T214543Z
LAST-MODIFIED:20240126T214543Z
UID:21463-1707401700-1707407100@psdconsulting.com
SUMMARY:(R3.2) Residential: Efficient Forced Air Distribution (Pt 2)
DESCRIPTION:NYSERDA Energy Code Training provided by Performance Systems Development \nR3.2 Residential: Efficient Forced Air Distribution Part 2\nT02-07-2862 \nCOST:\nFree registration for New York Code Officials.*\nUse discount code: NYCEO\n*For use by New York Code Officials only.\nAll Others: $15.00 \nCONTINUING EDUCATION:\nArchitects: 1.5 AIA LU | HSW\nHome Performance Contractors: 1.5 BPI CEUs\nCode Enforcement Officials: 1.5 NYS DOS In-Service Hours \nTo receive credit\, participants must log into the GoToWebinar application within the first 15 minutes of the training and stay until the end of the webinar. VIDEO VIEWING IS REQUIRED! \nCOURSE DESCRIPTION\nIn this course attendees will understand the importance of duct testing\, sealing\, and installation on the total performance of a house heating and cooling system. Attendees will be able to distinguish various code requirements based on duct proximity to the building thermal envelope. In addition\, attendees will learn duct insulation requirements and methods. Attendees will be introduced to a customizable Duct and Envelope Testing (DET) reporting form to make demonstrating code compliance straightforward and efficient. \nLearning Objectives:\n1. Understand the consequences of leaky duct systems\n2. Understand how to achieve tight ducts\n3. Identify and resolve other common duct installation problems\n4. Utilize the provided duct and envelope testing (DET) form to document or verify compliance with duct testing requirements
URL:https://psdconsulting.com/calendar/r3-2-residential-efficient-forced-air-distribution-pt-2-24/
LOCATION:ONLINE – WEBINAR
CATEGORIES:New York Energy Code Training,Residential
END:VEVENT
BEGIN:VEVENT
DTSTART;TZID=America/New_York:20240215T083000
DTEND;TZID=America/New_York:20240215T100000
DTSTAMP:20260423T013323
CREATED:20240126T214811Z
LAST-MODIFIED:20240126T214811Z
UID:21465-1707985800-1707991200@psdconsulting.com
SUMMARY:(C4.1) Electrifying the Energy Code - Commercial
DESCRIPTION:NYSERDA Energy Code Training provided by Performance Systems Development \nC4.1- Electrifying the Energy Code\nT02-07-3134 \nCOST:\nFree registration for New York Code Officials.*\nUse discount code: NYCEO\n*For use by New York Code Officials only.\nAll Others: $15.00 \nCONTINUING EDUCATION:\nArchitects: 1.5 AIA LU | HSW\nHome Performance Contractors: 1.5 BPI CEUs\nCode Enforcement Officials: 1.5 NYS DOS In-Service Hours \nTo receive credit\, participants must log into the GoToWebinar application within the first 15 minutes of the training and stay until the end of the webinar. VIDEO VIEWING IS REQUIRED! \nCOURSE DESCRIPTION:\nThe first part of the program will cover IECC Appendix CA: Solar-Ready Zone along with related requirements including mandatory access and set back areas required by the Fire Code of New York State in Section 1204 Solar Photovoltaic Power Systems. This section will also discuss what it means to include a “collateral dead load” in gravity and lateral design calculations for the roof. \nLearning Objectives:\n1- Describe the concept of beneficial electrification\n2- Identify and describe energy code provisions that promote beneficial electrification\n3- Understand relevant requirements from the Fire Code of New York State\n4- Describe the various systems involved in NYStretch Appendix CC: Additional Power Distribution Packages.
URL:https://psdconsulting.com/calendar/c4-1-electrifying-the-energy-code-commercial-10/
LOCATION:ONLINE – WEBINAR
CATEGORIES:Commercial,New York Energy Code Training
END:VEVENT
BEGIN:VEVENT
DTSTART;TZID=America/New_York:20240215T101500
DTEND;TZID=America/New_York:20240215T114500
DTSTAMP:20260423T013323
CREATED:20240126T215111Z
LAST-MODIFIED:20240126T215112Z
UID:21467-1707992100-1707997500@psdconsulting.com
SUMMARY:(C4.2) Electrifying the Energy Code - Commercial
DESCRIPTION:NYSERDA Energy Code Training provided by Performance Systems Development \nC4.2- Electrifying the Energy Code\nT02-07-3141 \nCOST:\nFree registration for New York Code Officials.*\nUse discount code: NYCEO\n*For use by New York Code Officials only.\nAll Others: $15.00 \nCONTINUING EDUCATION:\nArchitects: 1.5 AIA LU | HSW\nHome Performance Contractors: 1.5 BPI CEUs\nCode Enforcement Officials: 1.5 NYS DOS In-Service Hours \nTo receive credit\, participants must log into the GoToWebinar application within the first 15 minutes of the training and stay until the end of the webinar. VIDEO VIEWING IS REQUIRED! \nCOURSE DESCRIPTION:\nThe second part of the program will cover the EV Charging Station Capable requirements and provide detailed coverage of the five additional power distribution packages in NYStretch Appendix CC. A particular emphasis will be placed on how to accomplish the requirements for the more complex packages\, including electrical energy monitoring and interoperable automated demand response. \nLearning Objectives:\n1- Describe the concept of beneficial electrification\n2- Identify and describe energy code provisions that promote beneficial electrification\n3- Understand relevant requirements from the Fire Code of New York State\n4- Describe the various systems involved in NYStretch Appendix CC: Additional Power Distribution Packages.
URL:https://psdconsulting.com/calendar/c4-2-electrifying-the-energy-code-commercial-10/
LOCATION:ONLINE – WEBINAR
CATEGORIES:Commercial,New York Energy Code Training
END:VEVENT
BEGIN:VEVENT
DTSTART;TZID=America/New_York:20240229T123000
DTEND;TZID=America/New_York:20240229T140000
DTSTAMP:20260423T013323
CREATED:20240126T215255Z
LAST-MODIFIED:20240126T215255Z
UID:21469-1709209800-1709215200@psdconsulting.com
SUMMARY:(M1.1) - Multifamily Air Sealing
DESCRIPTION:NYSERDA Energy Code Training provided by Performance Systems Development \nM1.1 – Multifamily Air Sealing\nT02-07-3088 \nCOST:\nFree registration for New York Code Officials.*\nUse discount code: NYCEO\n*For use by New York Code Officials only.\nAll Others: $15.00 \nCONTINUING EDUCATION:\nArchitects: 1.5 AIA LU | HSW\nHome Performance Contractors: 1.5 BPI CEUs\nCode Enforcement Officials: 1.5 NYS DOS In-Service Hours \nTo receive credit\, participants must log into the GoToWebinar application within the first 15 minutes of the training and stay until the end of the webinar. VIDEO VIEWING IS REQUIRED! \nCOURSE DESCRIPTION\nThis course will cover 2020 ECCCNYS requirements in the context of multifamily buildings. The first portion of the program will cover the energy code requirements for multifamily buildings. The second portion of the program will cover the energy code requirements as they apply to residential buildings in respect to air sealing. The third portion of the program will cover the energy code requirements for commercial buildings in respect to air sealing. The fourth and final portion of program will explore additional opportunities such as NYStretch and details to be considered \nAfter taking this course\, attendees will be able to…\ni. Understand the scope of the residential versus the commercial provisions of the ECCCNYS regarding multifamily buildings\nii. Identify and eliminate the biggest sources of air leakage in multifamily buildings\niii. Describe various\, important air sealing design and construction details\niv. Better understand the Energy Code’s requirements for air barrier construction and testing
URL:https://psdconsulting.com/calendar/m1-1-multifamily-air-sealing-10/
LOCATION:ONLINE – WEBINAR
CATEGORIES:Multifamily,New York Energy Code Training
END:VEVENT
BEGIN:VEVENT
DTSTART;TZID=America/New_York:20240229T141500
DTEND;TZID=America/New_York:20240229T154500
DTSTAMP:20260423T013323
CREATED:20240126T215512Z
LAST-MODIFIED:20240126T215512Z
UID:21471-1709216100-1709221500@psdconsulting.com
SUMMARY:(M1.2) - Multifamily Thermal Bridging
DESCRIPTION:NYSERDA Energy Code Training provided by Performance Systems Development \nT02-07-3099 \nCOST:\nFree registration for New York Code Officials.*\nUse discount code: NYCEO\n*For use by New York Code Officials only.\nAll Others: $15.00 \nCONTINUING EDUCATION:\nArchitects: 1.5 AIA LU | HSW\nHome Performance Contractors: 1.5 BPI CEUs\nCode Enforcement Officials: 1.5 NYS DOS In-Service Hours \nTo receive credit\, participants must log into the GoToWebinar application within the first 15 minutes of the training and stay until the end of the webinar. VIDEO VIEWING IS REQUIRED!
URL:https://psdconsulting.com/calendar/m1-2-multifamily-thermal-bridging-9/
CATEGORIES:Multifamily,New York Energy Code Training
END:VEVENT
END:VCALENDAR