BEGIN:VCALENDAR
VERSION:2.0
PRODID:-//PSD - ECPv6.15.11//NONSGML v1.0//EN
CALSCALE:GREGORIAN
METHOD:PUBLISH
X-ORIGINAL-URL:https://psdconsulting.com
X-WR-CALDESC:Events for PSD
REFRESH-INTERVAL;VALUE=DURATION:PT1H
X-Robots-Tag:noindex
X-PUBLISHED-TTL:PT1H
BEGIN:VTIMEZONE
TZID:America/New_York
BEGIN:DAYLIGHT
TZOFFSETFROM:-0500
TZOFFSETTO:-0400
TZNAME:EDT
DTSTART:20230312T070000
END:DAYLIGHT
BEGIN:STANDARD
TZOFFSETFROM:-0400
TZOFFSETTO:-0500
TZNAME:EST
DTSTART:20231105T060000
END:STANDARD
BEGIN:DAYLIGHT
TZOFFSETFROM:-0500
TZOFFSETTO:-0400
TZNAME:EDT
DTSTART:20240310T070000
END:DAYLIGHT
BEGIN:STANDARD
TZOFFSETFROM:-0400
TZOFFSETTO:-0500
TZNAME:EST
DTSTART:20241103T060000
END:STANDARD
BEGIN:DAYLIGHT
TZOFFSETFROM:-0500
TZOFFSETTO:-0400
TZNAME:EDT
DTSTART:20250309T070000
END:DAYLIGHT
BEGIN:STANDARD
TZOFFSETFROM:-0400
TZOFFSETTO:-0500
TZNAME:EST
DTSTART:20251102T060000
END:STANDARD
END:VTIMEZONE
BEGIN:VEVENT
DTSTART;TZID=America/New_York:20240307T083000
DTEND;TZID=America/New_York:20240307T100000
DTSTAMP:20260421T204810
CREATED:20240229T164220Z
LAST-MODIFIED:20240229T164220Z
UID:21641-1709800200-1709805600@psdconsulting.com
SUMMARY:(C6.1) Foam without Flames – Part 1 – Thermal Bridging
DESCRIPTION:NYSERDA Energy Code Training provided by Performance Systems Development \nFoam without Flames – Part 1 – Thermal Bridging\nT02-07-3230 \nCOST:\nFree registration for New York Code Officials.*\nUse discount code: NYCEO\n*For use by New York Code Officials only.\nAll Others: $15.00 \nCONTINUING EDUCATION:\nArchitects: 1.5 AIA LU | HSW\nHome Performance Contractors: 1.5 BPI CEUs\nCode Enforcement Officials: 1.5 NYS DOS In-Service Hours \nTo receive credit\, participants must log into the GoToWebinar application within the first 15 minutes of the training and stay until the end of the webinar. VIDEO VIEWING IS REQUIRED! \nCOURSE DESCRIPTION\nReducing thermal bridging is one of the keys to reducing energy waste in buildings and\, to that end\, the prescriptive energy code contains requirements for continuous insulation for roofs\, above-and below-grade walls\, and mass floors. This program will provide an overview of the thermal envelope requirements in the ECCCNYS [CE] and NYStretch [CE] as they relate to continuous insulation. This will be followed by a discussion the types of construction as categorized by the Building Code of New York State (Types I\, II\, III\, IV\, V) and associated fire-resistance rating requirements and fire separation distance requirements\, and NFPA 285 test for vertical and lateral flame spread as they relate to exterior foam applications. \nLEARNING OBJECTIVES\n1. Understand the impact of thermal bridging on building energy performance\n2. Describe the prescriptive requirements in the commercial IECC for continuous insulation\n3. Determine fire-resistance rating and fire separation distance requirements in the context of using continuous insulation\n4. Locate third-party testing documentation related to product testing for flame spread \n 
URL:https://psdconsulting.com/calendar/c6-1-foam-without-flames-part-1-thermal-bridging/
LOCATION:ONLINE – WEBINAR
CATEGORIES:Commercial,New York Energy Code Training
END:VEVENT
BEGIN:VEVENT
DTSTART;TZID=America/New_York:20240307T101500
DTEND;TZID=America/New_York:20240307T114500
DTSTAMP:20260421T204810
CREATED:20240229T164637Z
LAST-MODIFIED:20240229T164713Z
UID:21643-1709806500-1709811900@psdconsulting.com
SUMMARY:(C6.2) Foam without Flames – Part 2 – Fire Rated Assemblies
DESCRIPTION:NYSERDA Energy Code Training provided by Performance Systems Development \nFoam without Flames – Part 2 – Fire Rated Assemblies\nT02-07-3237 \nCOST:\nFree registration for New York Code Officials.*\nUse discount code: NYCEO\n*For use by New York Code Officials only.\nAll Others: $15.00 \nCONTINUING EDUCATION:\nArchitects: 1.5 AIA LU | HSW\nHome Performance Contractors: 1.5 BPI CEUs\nCode Enforcement Officials: 1.5 NYS DOS In-Service Hours \nTo receive credit\, participants must log into the GoToWebinar application within the first 15 minutes of the training and stay until the end of the webinar. VIDEO VIEWING IS REQUIRED! \nCOURSE DESCRIPTION:\nReducing thermal bridging is one of the keys to reducing energy waste in buildings and\, to that end\, the prescriptive energy code contains requirements for continuous insulation for roofs\, above-and below-grade walls\, and mass floors. This program will provide an overview of the thermal envelope requirements in the ECCCNYS [CE] and NYStretch [CE] as they relate to continuous insulation. This will be followed by a discussion the types of construction as categorized by the Building Code of New York State (Types I\, II\, III\, IV\, V) and associated fire-resistance rating requirements and fire separation distance requirements\, and NFPA 285 test for vertical and lateral flame spread as they relate to exterior foam applications. \nLEARNING OBJECTIVES:\n1. Understand the impact of thermal bridging on building energy performance\n2. Describe the prescriptive requirements in the commercial IECC for continuous insulation\n3. Determine fire-resistance rating and fire separation distance requirements in the context of using continuous insulation\n4. Locate third-party testing documentation related to product testing for flame spread
URL:https://psdconsulting.com/calendar/c6-2-foam-without-flames-part-2-fire-rated-assemblies/
LOCATION:ONLINE – WEBINAR
CATEGORIES:Commercial,New York Energy Code Training
END:VEVENT
BEGIN:VEVENT
DTSTART;TZID=America/New_York:20240328T123000
DTEND;TZID=America/New_York:20240328T140000
DTSTAMP:20260421T204810
CREATED:20240229T165136Z
LAST-MODIFIED:20240229T165601Z
UID:21645-1711629000-1711634400@psdconsulting.com
SUMMARY:(R1.1) Residential Energy Plan Reviews in 15 Minutes or Less (Pt 1)
DESCRIPTION:NYSERDA Energy Code Training provided by Performance Systems Development \nResidential Energy Plan Reviews in 15 Minutes or Less (Pt 1)\nT02-07-2829 \nCOST:\nFree registration for New York Code Officials.*\nUse discount code: NYCEO\n*For use by New York Code Officials only.\nAll Others: $15.00 \nCONTINUING EDUCATION:\nArchitects: 1.5 AIA LU | HSW\nHome Performance Contractors: 1.5 BPI CEUs\nCode Enforcement Officials: 1.5 NYS DOS In-Service Hours \nTo receive credit\, participants must log into the GoToWebinar application within the first 15 minutes of the training and stay until the end of the webinar. VIDEO VIEWING IS REQUIRED! \nCOURSE DESCRIPTION\nCountless previous research shows that code officials have very limited time to perform thorough plan reviews and that energy code provisions are often the first items to be jettisoned. This webinar is Part 1 of a two-part series\, and will not only help code officials\, but also those responsible for preparing construction documents. Participants will understand what’s required to do quick – yet thorough – document submittals and plan reviews. Sample checklists\, worksheets and other forms will be discussed and downloadable. \nLEARNING OBJECTIVES:\n1. Describe a process for reviewing residential plans that includes assessing the highest impact energy code provisions\n2. Understand the inputs to provided forms and checklists such as duct and envelope testing verification and HVAC design forms and integrate them into your organization’s normal compliance documentation or enforcement processes\n3. Recreate a timeline that includes which construction details and verification forms needed to be provided/collected\n4. Describe how third-party energy professionals such as duct and envelope testers and HERS Raters fit into the inspection process
URL:https://psdconsulting.com/calendar/r1-1-residential-energy-plan-reviews-in-15-minutes-or-less-pt-1-29/
LOCATION:ONLINE – WEBINAR
CATEGORIES:New York Energy Code Training,Residential
END:VEVENT
BEGIN:VEVENT
DTSTART;TZID=America/New_York:20240328T141500
DTEND;TZID=America/New_York:20240328T154500
DTSTAMP:20260421T204810
CREATED:20240229T165752Z
LAST-MODIFIED:20240229T165752Z
UID:21648-1711635300-1711640700@psdconsulting.com
SUMMARY:(R1.2) Residential Energy Inspections in 15 Minutes or Less (Pt 2)
DESCRIPTION:NYSERDA Energy Code Training provided by Performance Systems Development \nResidential Energy Inspections in 15 Minutes or Less (Pt 2)\nT02-07-2863 \nCOST:\nFree registration for New York Code Officials.*\nUse discount code: NYCEO\n*For use by New York Code Officials only.\nAll Others: $15.00 \nCONTINUING EDUCATION:\nArchitects: 1.5 AIA LU | HSW\nHome Performance Contractors: 1.5 BPI CEUs\nCode Enforcement Officials: 1.5 NYS DOS In-Service Hours \nTo receive credit\, participants must log into the GoToWebinar application within the first 15 minutes of the training and stay until the end of the webinar. VIDEO VIEWING IS REQUIRED! \nCOURSE DESCRIPTION:\nCountless previous research shows that code officials have very limited time to perform thorough energy code inspections. This 90-minute webinar will cover the five required inspections: footing and foundation; Framing and rough-in; Plumbing\, Mechanical and Final. Part 2 of a two-part series\, this course will not only help code officials but also those responsible for designing and constructing residential buildings. Participants will understand what’s required to do quick – yet thorough – site inspections. Sample inspection checklists\, worksheets and other forms will be discussed and downloadable. \nLearning objectives:\nAfter taking this course\, attendees will be able to…\n1. Describe a process for inspecting residential construction that includes assessing the highest impact energy code provisions\n2. Understand the inputs to provided forms and checklists such as duct and envelope testing verification and HVAC design forms and integrate them into your organization’s compliance documentation or enforcement processes\n3. Recreate a timeline that includes which construction details and verification forms need to be provided/collected and when in the design/construction process\n4. Describe how third-party energy professionals such as duct and envelope testers and HERS Raters fit into the inspection process
URL:https://psdconsulting.com/calendar/r1-2-residential-energy-inspections-in-15-minutes-or-less-pt-2-28/
LOCATION:ONLINE – WEBINAR
CATEGORIES:New York Energy Code Training,Residential
END:VEVENT
END:VCALENDAR