BEGIN:VCALENDAR
VERSION:2.0
PRODID:-//PSD - ECPv6.15.11//NONSGML v1.0//EN
CALSCALE:GREGORIAN
METHOD:PUBLISH
X-ORIGINAL-URL:https://psdconsulting.com
X-WR-CALDESC:Events for PSD
REFRESH-INTERVAL;VALUE=DURATION:PT1H
X-Robots-Tag:noindex
X-PUBLISHED-TTL:PT1H
BEGIN:VTIMEZONE
TZID:America/New_York
BEGIN:DAYLIGHT
TZOFFSETFROM:-0500
TZOFFSETTO:-0400
TZNAME:EDT
DTSTART:20230312T070000
END:DAYLIGHT
BEGIN:STANDARD
TZOFFSETFROM:-0400
TZOFFSETTO:-0500
TZNAME:EST
DTSTART:20231105T060000
END:STANDARD
BEGIN:DAYLIGHT
TZOFFSETFROM:-0500
TZOFFSETTO:-0400
TZNAME:EDT
DTSTART:20240310T070000
END:DAYLIGHT
BEGIN:STANDARD
TZOFFSETFROM:-0400
TZOFFSETTO:-0500
TZNAME:EST
DTSTART:20241103T060000
END:STANDARD
BEGIN:DAYLIGHT
TZOFFSETFROM:-0500
TZOFFSETTO:-0400
TZNAME:EDT
DTSTART:20250309T070000
END:DAYLIGHT
BEGIN:STANDARD
TZOFFSETFROM:-0400
TZOFFSETTO:-0500
TZNAME:EST
DTSTART:20251102T060000
END:STANDARD
END:VTIMEZONE
BEGIN:VEVENT
DTSTART;TZID=America/New_York:20241203T123000
DTEND;TZID=America/New_York:20241203T140000
DTSTAMP:20260422T142927
CREATED:20241101T193548Z
LAST-MODIFIED:20241101T193548Z
UID:22434-1733229000-1733234400@psdconsulting.com
SUMMARY:(C6.1) Foam without Flames – Part 1 – Thermal Bridging (NYSERDA Energy Code Training)
DESCRIPTION:NYSERDA Energy Code Training provided by Performance Systems Development \nFoam without Flames – Part 1 – Thermal Bridging\nT02-07-3230 \nCOST:\nFree registration for New York Code Officials.*\nUse discount code: NYCEO\n*For use by New York Code Officials only.\nAll Others: $15.00 \nCONTINUING EDUCATION:\nArchitects: 1.5 AIA LU | HSW\nHome Performance Contractors: 1.5 BPI CEUs\nCode Enforcement Officials: 1.5 NYS DOS In-Service Hours \nTo receive credit\, participants must log into the GoToWebinar application within the first 15 minutes of the training and stay until the end of the webinar. VIDEO VIEWING IS REQUIRED! \nCOURSE DESCRIPTION\nReducing thermal bridging is one of the keys to reducing energy waste in buildings and\, to that end\, the prescriptive energy code contains requirements for continuous insulation for roofs\, above-and below-grade walls\, and mass floors. This program will provide an overview of the thermal envelope requirements in the ECCCNYS [CE] and NYStretch [CE] as they relate to continuous insulation. This will be followed by a discussion the types of construction as categorized by the Building Code of New York State (Types I\, II\, III\, IV\, V) and associated fire-resistance rating requirements and fire separation distance requirements\, and NFPA 285 test for vertical and lateral flame spread as they relate to exterior foam applications. \nLEARNING OBJECTIVES\n1. Understand the impact of thermal bridging on building energy performance\n2. Describe the prescriptive requirements in the commercial IECC for continuous insulation\n3. Determine fire-resistance rating and fire separation distance requirements in the context of using continuous insulation\n4. Locate third-party testing documentation related to product testing for flame spread \n 
URL:https://psdconsulting.com/calendar/c6-1-foam-without-flames-part-1-thermal-bridging-nyserda-energy-code-training/
LOCATION:ONLINE – WEBINAR
CATEGORIES:Commercial,New York Energy Code Training
END:VEVENT
BEGIN:VEVENT
DTSTART;TZID=America/New_York:20241203T141500
DTEND;TZID=America/New_York:20241203T154500
DTSTAMP:20260422T142927
CREATED:20241101T193701Z
LAST-MODIFIED:20241101T193701Z
UID:22436-1733235300-1733240700@psdconsulting.com
SUMMARY:(C6.2) Foam without Flames – Part 2 – Fire Rated Assemblies (NYSERDA Energy Code Training)
DESCRIPTION:NYSERDA Energy Code Training provided by Performance Systems Development \nFoam without Flames – Part 2 – Fire Rated Assemblies\nT02-07-3237 \nCOST:\nFree registration for New York Code Officials.*\nUse discount code: NYCEO\n*For use by New York Code Officials only.\nAll Others: $15.00 \nCONTINUING EDUCATION:\nArchitects: 1.5 AIA LU | HSW\nHome Performance Contractors: 1.5 BPI CEUs\nCode Enforcement Officials: 1.5 NYS DOS In-Service Hours \nTo receive credit\, participants must log into the GoToWebinar application within the first 15 minutes of the training and stay until the end of the webinar. VIDEO VIEWING IS REQUIRED! \nCOURSE DESCRIPTION:\nReducing thermal bridging is one of the keys to reducing energy waste in buildings and\, to that end\, the prescriptive energy code contains requirements for continuous insulation for roofs\, above-and below-grade walls\, and mass floors. This program will provide an overview of the thermal envelope requirements in the ECCCNYS [CE] and NYStretch [CE] as they relate to continuous insulation. This will be followed by a discussion the types of construction as categorized by the Building Code of New York State (Types I\, II\, III\, IV\, V) and associated fire-resistance rating requirements and fire separation distance requirements\, and NFPA 285 test for vertical and lateral flame spread as they relate to exterior foam applications. \nLEARNING OBJECTIVES:\n1. Understand the impact of thermal bridging on building energy performance\n2. Describe the prescriptive requirements in the commercial IECC for continuous insulation\n3. Determine fire-resistance rating and fire separation distance requirements in the context of using continuous insulation\n4. Locate third-party testing documentation related to product testing for flame spread
URL:https://psdconsulting.com/calendar/c6-2-foam-without-flames-part-2-fire-rated-assemblies-nyserda-energy-code-training/
LOCATION:ONLINE – WEBINAR
CATEGORIES:Commercial,New York Energy Code Training
END:VEVENT
BEGIN:VEVENT
DTSTART;TZID=America/New_York:20241204T083000
DTEND;TZID=America/New_York:20241204T100000
DTSTAMP:20260422T142927
CREATED:20241101T193804Z
LAST-MODIFIED:20241101T193805Z
UID:22438-1733301000-1733306400@psdconsulting.com
SUMMARY:(C4.1) Electrifying the Energy Code - Commercial (NYSERDA Energy Code Training)
DESCRIPTION:NYSERDA Energy Code Training provided by Performance Systems Development \nPlease be advised that GoToWebinar is only compatible with the browsers Firefox and Chrome. \nC4.1- Electrifying the Energy Code\nT02-07-3134 \nCOST:\nFree registration for New York Code Officials.*\nUse discount code: NYCEO\n*For use by New York Code Officials only.\nAll Others: $15.00 \nCONTINUING EDUCATION:\nArchitects: 1.5 AIA LU | HSW\nHome Performance Contractors: 1.5 BPI CEUs\nCode Enforcement Officials: 1.5 NYS DOS In-Service Hours \nTo receive credit\, participants must log into the GoToWebinar application within the first 15 minutes of the training and stay until the end of the webinar. VIDEO VIEWING IS REQUIRED! \nCOURSE DESCRIPTION:\nThe first part of the program will cover IECC Appendix CA: Solar-Ready Zone along with related requirements including mandatory access and set back areas required by the Fire Code of New York State in Section 1204 Solar Photovoltaic Power Systems. This section will also discuss what it means to include a “collateral dead load” in gravity and lateral design calculations for the roof. \nLearning Objectives:\n1- Describe the concept of beneficial electrification\n2- Identify and describe energy code provisions that promote beneficial electrification\n3- Understand relevant requirements from the Fire Code of New York State\n4- Describe the various systems involved in NYStretch Appendix CC: Additional Power Distribution Packages.
URL:https://psdconsulting.com/calendar/c4-1-electrifying-the-energy-code-commercial-nyserda-energy-code-training/
LOCATION:ONLINE – WEBINAR
CATEGORIES:Commercial,New York Energy Code Training
END:VEVENT
BEGIN:VEVENT
DTSTART;TZID=America/New_York:20241204T101500
DTEND;TZID=America/New_York:20241204T114500
DTSTAMP:20260422T142927
CREATED:20241101T193925Z
LAST-MODIFIED:20241101T193925Z
UID:22440-1733307300-1733312700@psdconsulting.com
SUMMARY:(C4.2) Electrifying the Energy Code - Commercial (NYSERDA Energy Code Training)
DESCRIPTION:NYSERDA Energy Code Training provided by Performance Systems Development \nPlease be advised that GoToWebinar is only compatible with the browsers Firefox and Chrome. \nC4.2- Electrifying the Energy Code\nT02-07-3141 \nCOST:\nFree registration for New York Code Officials.*\nUse discount code: NYCEO\n*For use by New York Code Officials only.\nAll Others: $15.00 \nCONTINUING EDUCATION:\nArchitects: 1.5 AIA LU | HSW\nHome Performance Contractors: 1.5 BPI CEUs\nCode Enforcement Officials: 1.5 NYS DOS In-Service Hours \nTo receive credit\, participants must log into the GoToWebinar application within the first 15 minutes of the training and stay until the end of the webinar. VIDEO VIEWING IS REQUIRED! \nCOURSE DESCRIPTION:\nThe second part of the program will cover the EV Charging Station Capable requirements and provide detailed coverage of the five additional power distribution packages in NYStretch Appendix CC. A particular emphasis will be placed on how to accomplish the requirements for the more complex packages\, including electrical energy monitoring and interoperable automated demand response. \nLearning Objectives:\n1- Describe the concept of beneficial electrification\n2- Identify and describe energy code provisions that promote beneficial electrification\n3- Understand relevant requirements from the Fire Code of New York State\n4- Describe the various systems involved in NYStretch Appendix CC: Additional Power Distribution Packages.
URL:https://psdconsulting.com/calendar/c4-2-electrifying-the-energy-code-commercial-nyserda-energy-code-training/
LOCATION:ONLINE – WEBINAR
CATEGORIES:Commercial,New York Energy Code Training
END:VEVENT
BEGIN:VEVENT
DTSTART;TZID=America/New_York:20241212T083000
DTEND;TZID=America/New_York:20241212T100000
DTSTAMP:20260422T142927
CREATED:20241101T194032Z
LAST-MODIFIED:20241101T194032Z
UID:22442-1733992200-1733997600@psdconsulting.com
SUMMARY:(R7.1) Put a Lid On It Part 1: Unvented Attics (NYSERDA Energy Code Training)
DESCRIPTION:NYSERDA Energy Code Training provided by Performance Systems Development \nR7.1 – Put a Lid On It Part 1 – Unvented Attics\nT02-07-3192 \nCOST:\nFree registration for New York Code Officials.*\nUse discount code: NYCEO\n*For use by New York Code Officials only.\nAll Others: $15.00 \nCONTINUING EDUCATION:\nArchitects: 1.5 AIA LU | HSW\nHome Performance Contractors: 1.5 BPI CEUs\nCode Enforcement Officials: 1.5 NYS DOS In-Service Hours \nTo receive credit\, participants must log into the GoToWebinar application within the first 15 minutes of the training and stay until the end of the webinar. VIDEO VIEWING IS REQUIRED! \nCOURSE DESCRIPTION\nBringing attic and crawl spaces inside the thermal envelope is a great way to simultaneously improve energy efficiency and moisture management. One of the main ways unvented attics and crawl spaces reduce energy waste is by bringing ducts and air handlers inside (which is a requirement of NYStretch and the NYCECC). This can also be cost-effective for builders as they eliminate the requirement for duct testing. But there are risks associated with installing these assemblies improperly\, so it is important to meet all related requirements in the RCNYS. For unvented attics\, these include a minimum R-value of air impermeable insulation or above-roof deck insulation and proper installation and location of vapor retarders. For unvented crawl spaces\, builders must take care to install vapor barriers over exposed earth and provide a means of evacuating moisture. For both strategies\, the use of spray foam also brings in fire safety requirements from the RCNYS for thermal or ignition barriers. This course will provide a review of the benefits of unvented attics and crawl spaces\, related building science concepts\, and energy and residential code requirements. \nLearning Objectives:\n1- Describe the energy efficiency benefits of unvented attics and crawl spaces\n2- Describe durability benefits of unvented attics and crawl spaces\n3- Understand energy code requirements related to these assemblies
URL:https://psdconsulting.com/calendar/r7-1-put-a-lid-on-it-part-1-unvented-attics-nyserda-energy-code-training/
LOCATION:ONLINE – WEBINAR
CATEGORIES:New York Energy Code Training,Residential
END:VEVENT
END:VCALENDAR