BEGIN:VCALENDAR
VERSION:2.0
PRODID:-//PSD - ECPv6.15.11//NONSGML v1.0//EN
CALSCALE:GREGORIAN
METHOD:PUBLISH
X-WR-CALNAME:PSD
X-ORIGINAL-URL:https://psdconsulting.com
X-WR-CALDESC:Events for PSD
REFRESH-INTERVAL;VALUE=DURATION:PT1H
X-Robots-Tag:noindex
X-PUBLISHED-TTL:PT1H
BEGIN:VTIMEZONE
TZID:America/New_York
BEGIN:DAYLIGHT
TZOFFSETFROM:-0500
TZOFFSETTO:-0400
TZNAME:EDT
DTSTART:20210314T070000
END:DAYLIGHT
BEGIN:STANDARD
TZOFFSETFROM:-0400
TZOFFSETTO:-0500
TZNAME:EST
DTSTART:20211107T060000
END:STANDARD
BEGIN:DAYLIGHT
TZOFFSETFROM:-0500
TZOFFSETTO:-0400
TZNAME:EDT
DTSTART:20220313T070000
END:DAYLIGHT
BEGIN:STANDARD
TZOFFSETFROM:-0400
TZOFFSETTO:-0500
TZNAME:EST
DTSTART:20221106T060000
END:STANDARD
BEGIN:DAYLIGHT
TZOFFSETFROM:-0500
TZOFFSETTO:-0400
TZNAME:EDT
DTSTART:20230312T070000
END:DAYLIGHT
BEGIN:STANDARD
TZOFFSETFROM:-0400
TZOFFSETTO:-0500
TZNAME:EST
DTSTART:20231105T060000
END:STANDARD
END:VTIMEZONE
BEGIN:VEVENT
DTSTART;TZID=America/New_York:20220713T083000
DTEND;TZID=America/New_York:20220713T114500
DTSTAMP:20260423T013312
CREATED:20220503T171051Z
LAST-MODIFIED:20220503T185608Z
UID:16077-1657701000-1657712700@psdconsulting.com
SUMMARY:Duct and Envelope Testing in the 2018 IECC (Basic)
DESCRIPTION:Continuing Education: Three (3) hours. PA UCC\, ICC\, AIA LU|HSW\, NARI\, BPI \nCourse Description:\nThis course is intended for students interested in learning about the basic concepts behind duct and envelope air leakage testing and an introduction to blower door and duct leakage testing operation. The program will cover basic building science principles as they relate to drivers of envelope air leakage and duct leakage\, review code requirements related to testing\, review the basics of equipment setup and operation\, and describe how to calculate and interpret test results.
URL:https://psdconsulting.com/calendar/duct-and-envelope-testing-in-the-2018-iecc-basic/
LOCATION:ONLINE – WEBINAR
CATEGORIES:DET Basic,Pennsylvania Energy Code Training
END:VEVENT
END:VCALENDAR