BEGIN:VCALENDAR
VERSION:2.0
PRODID:-//PSD - ECPv6.15.11//NONSGML v1.0//EN
CALSCALE:GREGORIAN
METHOD:PUBLISH
X-WR-CALNAME:PSD
X-ORIGINAL-URL:https://psdconsulting.com
X-WR-CALDESC:Events for PSD
REFRESH-INTERVAL;VALUE=DURATION:PT1H
X-Robots-Tag:noindex
X-PUBLISHED-TTL:PT1H
BEGIN:VTIMEZONE
TZID:America/New_York
BEGIN:DAYLIGHT
TZOFFSETFROM:-0500
TZOFFSETTO:-0400
TZNAME:EDT
DTSTART:20200308T070000
END:DAYLIGHT
BEGIN:STANDARD
TZOFFSETFROM:-0400
TZOFFSETTO:-0500
TZNAME:EST
DTSTART:20201101T060000
END:STANDARD
BEGIN:DAYLIGHT
TZOFFSETFROM:-0500
TZOFFSETTO:-0400
TZNAME:EDT
DTSTART:20210314T070000
END:DAYLIGHT
BEGIN:STANDARD
TZOFFSETFROM:-0400
TZOFFSETTO:-0500
TZNAME:EST
DTSTART:20211107T060000
END:STANDARD
BEGIN:DAYLIGHT
TZOFFSETFROM:-0500
TZOFFSETTO:-0400
TZNAME:EDT
DTSTART:20220313T070000
END:DAYLIGHT
BEGIN:STANDARD
TZOFFSETFROM:-0400
TZOFFSETTO:-0500
TZNAME:EST
DTSTART:20221106T060000
END:STANDARD
END:VTIMEZONE
BEGIN:VEVENT
DTSTART;TZID=America/New_York:20210317T101500
DTEND;TZID=America/New_York:20210317T234500
DTSTAMP:20260422T015843
CREATED:20210218T175945Z
LAST-MODIFIED:20210218T181207Z
UID:14079-1615976100-1616024700@psdconsulting.com
SUMMARY:(C2.2) Prioritizing ECCCNYS Enforcement for Commercial Buildings (Part 2)
DESCRIPTION:
URL:https://psdconsulting.com/calendar/c2-2-prioritizing-ecccnys-enforcement-for-commercial-buildings-part-2-6/
LOCATION:ONLINE – WEBINAR
CATEGORIES:New York Energy Code Training
END:VEVENT
BEGIN:VEVENT
DTSTART;TZID=America/New_York:20210317T083000
DTEND;TZID=America/New_York:20210317T100000
DTSTAMP:20260422T015843
CREATED:20210218T175747Z
LAST-MODIFIED:20210218T175747Z
UID:14077-1615969800-1615975200@psdconsulting.com
SUMMARY:(C2.1) Prioritizing ECCCNYS Enforcement for Commercial Buildings (Part 1)
DESCRIPTION:
URL:https://psdconsulting.com/calendar/c2-1-prioritizing-ecccnys-enforcement-for-commercial-buildings-part-1-6/
LOCATION:ONLINE – WEBINAR
CATEGORIES:New York Energy Code Training
END:VEVENT
BEGIN:VEVENT
DTSTART;TZID=America/New_York:20210316T101500
DTEND;TZID=America/New_York:20210316T114500
DTSTAMP:20260422T015843
CREATED:20210218T175330Z
LAST-MODIFIED:20210218T175330Z
UID:14075-1615889700-1615895100@psdconsulting.com
SUMMARY:(C1.2) Lighting Systems for Large Commercial Buildings (Part 2)
DESCRIPTION:
URL:https://psdconsulting.com/calendar/c1-2-lighting-systems-for-large-commercial-buildings-part-2-6/
LOCATION:ONLINE – WEBINAR
CATEGORIES:New York Energy Code Training
END:VEVENT
BEGIN:VEVENT
DTSTART;TZID=America/New_York:20210316T083000
DTEND;TZID=America/New_York:20210316T100000
DTSTAMP:20260422T015843
CREATED:20210218T175223Z
LAST-MODIFIED:20210218T175223Z
UID:14073-1615883400-1615888800@psdconsulting.com
SUMMARY:(C1.1) Mechanical Systems for Large Commercial Buildings (Part 1)
DESCRIPTION:
URL:https://psdconsulting.com/calendar/c1-1-mechanical-systems-for-large-commercial-buildings-part-1-9/
LOCATION:ONLINE – WEBINAR
CATEGORIES:New York Energy Code Training
END:VEVENT
BEGIN:VEVENT
DTSTART;TZID=America/New_York:20210311T101500
DTEND;TZID=America/New_York:20210311T234500
DTSTAMP:20260422T015843
CREATED:20210217T214730Z
LAST-MODIFIED:20210217T214730Z
UID:14071-1615457700-1615506300@psdconsulting.com
SUMMARY:(R3.2) ECCCNYS Residential Systems (Part 2): Forced Air Distribution
DESCRIPTION:
URL:https://psdconsulting.com/calendar/r3-2-ecccnys-residential-systems-part-2-forced-air-distribution-4/
LOCATION:ONLINE – WEBINAR
CATEGORIES:New York Energy Code Training
END:VEVENT
BEGIN:VEVENT
DTSTART;TZID=America/New_York:20210311T083000
DTEND;TZID=America/New_York:20210311T100000
DTSTAMP:20260422T015843
CREATED:20210217T214542Z
LAST-MODIFIED:20210217T214542Z
UID:14069-1615451400-1615456800@psdconsulting.com
SUMMARY:(R3.1) ECCCNYS Residential Systems (Part 1): Whole-house Mechanical Ventilation
DESCRIPTION:
URL:https://psdconsulting.com/calendar/r3-1-ecccnys-residential-systems-part-1-whole-house-mechanical-ventilation-4/
LOCATION:ONLINE – WEBINAR
CATEGORIES:New York Energy Code Training
END:VEVENT
BEGIN:VEVENT
DTSTART;TZID=America/New_York:20210310T101500
DTEND;TZID=America/New_York:20210310T114500
DTSTAMP:20260422T015843
CREATED:20210217T214413Z
LAST-MODIFIED:20210217T214413Z
UID:14067-1615371300-1615376700@psdconsulting.com
SUMMARY:(R2.2) ECCCNYS Residential Envelope (Part 2): Other Requirements
DESCRIPTION:
URL:https://psdconsulting.com/calendar/r2-2-ecccnys-residential-envelope-part-2-other-requirements-5/
LOCATION:ONLINE – WEBINAR
CATEGORIES:New York Energy Code Training
END:VEVENT
BEGIN:VEVENT
DTSTART;TZID=America/New_York:20210310T083000
DTEND;TZID=America/New_York:20210310T100000
DTSTAMP:20260422T015843
CREATED:20210217T214304Z
LAST-MODIFIED:20210217T214304Z
UID:14065-1615365000-1615370400@psdconsulting.com
SUMMARY:(R2.1) ECCCNYS Residential Envelope (Part 1): Air Sealing to 3 ACH50
DESCRIPTION:
URL:https://psdconsulting.com/calendar/r2-1-ecccnys-residential-envelope-part-1-air-sealing-to-3-ach50-5/
LOCATION:ONLINE – WEBINAR
CATEGORIES:New York Energy Code Training
END:VEVENT
BEGIN:VEVENT
DTSTART;TZID=America/New_York:20210309T101500
DTEND;TZID=America/New_York:20210309T114500
DTSTAMP:20260422T015843
CREATED:20210217T214132Z
LAST-MODIFIED:20210217T214132Z
UID:14063-1615284900-1615290300@psdconsulting.com
SUMMARY:(R1.2) ECCCNYS Residential Enforcement (Part 2): Inspection in 15 Minutes or Less
DESCRIPTION:
URL:https://psdconsulting.com/calendar/r1-2-ecccnys-residential-enforcement-part-2-inspection-in-15-minutes-or-less-5/
LOCATION:ONLINE – WEBINAR
CATEGORIES:New York Energy Code Training
END:VEVENT
BEGIN:VEVENT
DTSTART;TZID=America/New_York:20210309T083000
DTEND;TZID=America/New_York:20210309T100000
DTSTAMP:20260422T015843
CREATED:20210217T213850Z
LAST-MODIFIED:20210217T213850Z
UID:14061-1615278600-1615284000@psdconsulting.com
SUMMARY:(R1.1) ECCCNYS Residential Enforcement (Part 1): Plan Review in 15 Minutes or Less
DESCRIPTION:
URL:https://psdconsulting.com/calendar/r1-1-ecccnys-residential-enforcement-part-1-plan-review-in-15-minutes-or-less-5/
LOCATION:ONLINE – WEBINAR
CATEGORIES:New York Energy Code Training
END:VEVENT
BEGIN:VEVENT
DTSTART;TZID=America/New_York:20210303T144500
DTEND;TZID=America/New_York:20210303T161500
DTSTAMP:20260422T015843
CREATED:20210217T213745Z
LAST-MODIFIED:20210217T213745Z
UID:14059-1614782700-1614788100@psdconsulting.com
SUMMARY:(C2.2) Prioritizing ECCCNYS Enforcement for Commercial Buildings (Part 2)
DESCRIPTION:
URL:https://psdconsulting.com/calendar/c2-2-prioritizing-ecccnys-enforcement-for-commercial-buildings-part-2-5/
LOCATION:ONLINE – WEBINAR
CATEGORIES:New York Energy Code Training
END:VEVENT
BEGIN:VEVENT
DTSTART;TZID=America/New_York:20210303T130000
DTEND;TZID=America/New_York:20210303T143000
DTSTAMP:20260422T015843
CREATED:20210217T213635Z
LAST-MODIFIED:20210217T213635Z
UID:14056-1614776400-1614781800@psdconsulting.com
SUMMARY:(C2.1) Prioritizing ECCCNYS Enforcement for Commercial Buildings (Part 1)
DESCRIPTION:
URL:https://psdconsulting.com/calendar/c2-1-prioritizing-ecccnys-enforcement-for-commercial-buildings-part-1-5/
LOCATION:ONLINE – WEBINAR
CATEGORIES:New York Energy Code Training
END:VEVENT
BEGIN:VEVENT
DTSTART;TZID=America/New_York:20210302T144500
DTEND;TZID=America/New_York:20210302T161500
DTSTAMP:20260422T015843
CREATED:20210217T213500Z
LAST-MODIFIED:20210217T213500Z
UID:14054-1614696300-1614701700@psdconsulting.com
SUMMARY:(C1.2) Lighting Systems for Large Commercial Buildings (Part 2)
DESCRIPTION:
URL:https://psdconsulting.com/calendar/c1-2-lighting-systems-for-large-commercial-buildings-part-2-5/
LOCATION:ONLINE – WEBINAR
CATEGORIES:New York Energy Code Training
END:VEVENT
BEGIN:VEVENT
DTSTART;TZID=America/New_York:20210302T130000
DTEND;TZID=America/New_York:20210302T143000
DTSTAMP:20260422T015843
CREATED:20210217T213349Z
LAST-MODIFIED:20210217T213349Z
UID:14052-1614690000-1614695400@psdconsulting.com
SUMMARY:(C1.1) Mechanical Systems for Large Commercial Buildings (Part 1)
DESCRIPTION:
URL:https://psdconsulting.com/calendar/c1-1-mechanical-systems-for-large-commercial-buildings-part-1-8/
LOCATION:ONLINE – WEBINAR
CATEGORIES:New York Energy Code Training
END:VEVENT
BEGIN:VEVENT
DTSTART;TZID=America/New_York:20210225T144500
DTEND;TZID=America/New_York:20210225T161500
DTSTAMP:20260422T015843
CREATED:20210215T222357Z
LAST-MODIFIED:20210215T222357Z
UID:14050-1614264300-1614269700@psdconsulting.com
SUMMARY:(R3.2) ECCCNYS Residential Systems (Part 2): Forced Air Distribution
DESCRIPTION:
URL:https://psdconsulting.com/calendar/r3-2-ecccnys-residential-systems-part-2-forced-air-distribution-3/
LOCATION:ONLINE – WEBINAR
CATEGORIES:New York Energy Code Training
END:VEVENT
BEGIN:VEVENT
DTSTART;TZID=America/New_York:20210225T130000
DTEND;TZID=America/New_York:20210225T143000
DTSTAMP:20260422T015843
CREATED:20210215T221309Z
LAST-MODIFIED:20210215T221309Z
UID:14048-1614258000-1614263400@psdconsulting.com
SUMMARY:(R3.1) ECCCNYS Residential Systems (Part 1): Whole-house Mechanical Ventilation
DESCRIPTION:
URL:https://psdconsulting.com/calendar/r3-1-ecccnys-residential-systems-part-1-whole-house-mechanical-ventilation-3/
LOCATION:ONLINE – WEBINAR
CATEGORIES:New York Energy Code Training
END:VEVENT
BEGIN:VEVENT
DTSTART;TZID=America/New_York:20210224T144500
DTEND;TZID=America/New_York:20210224T161500
DTSTAMP:20260422T015843
CREATED:20210215T221210Z
LAST-MODIFIED:20210215T221210Z
UID:14046-1614177900-1614183300@psdconsulting.com
SUMMARY:(R2.2) ECCCNYS Residential Envelope (Part 2): Other Requirements
DESCRIPTION:
URL:https://psdconsulting.com/calendar/r2-2-ecccnys-residential-envelope-part-2-other-requirements-4/
LOCATION:ONLINE – WEBINAR
CATEGORIES:New York Energy Code Training
END:VEVENT
BEGIN:VEVENT
DTSTART;TZID=America/New_York:20210224T130000
DTEND;TZID=America/New_York:20210224T143000
DTSTAMP:20260422T015843
CREATED:20210215T221037Z
LAST-MODIFIED:20210215T221037Z
UID:14044-1614171600-1614177000@psdconsulting.com
SUMMARY:(R2.1) ECCCNYS Residential Envelope (Part 1): Air Sealing to 3 ACH50
DESCRIPTION:
URL:https://psdconsulting.com/calendar/r2-1-ecccnys-residential-envelope-part-1-air-sealing-to-3-ach50-4/
LOCATION:ONLINE – WEBINAR
CATEGORIES:New York Energy Code Training
END:VEVENT
BEGIN:VEVENT
DTSTART;TZID=America/New_York:20210223T144500
DTEND;TZID=America/New_York:20210223T161500
DTSTAMP:20260422T015843
CREATED:20210215T214020Z
LAST-MODIFIED:20210215T214020Z
UID:14041-1614091500-1614096900@psdconsulting.com
SUMMARY:(R1.2) ECCCNYS Residential Enforcement (Part 2): Inspection in 15 Minutes or Less
DESCRIPTION:
URL:https://psdconsulting.com/calendar/r1-2-ecccnys-residential-enforcement-part-2-inspection-in-15-minutes-or-less-4/
LOCATION:ONLINE – WEBINAR
CATEGORIES:New York Energy Code Training
END:VEVENT
BEGIN:VEVENT
DTSTART;TZID=America/New_York:20210223T130000
DTEND;TZID=America/New_York:20210223T143000
DTSTAMP:20260422T015843
CREATED:20210215T213909Z
LAST-MODIFIED:20210215T213909Z
UID:14039-1614085200-1614090600@psdconsulting.com
SUMMARY:(R1.1) ECCCNYS Residential Enforcement (Part 1): Plan Review in 15 Minutes or Less
DESCRIPTION:
URL:https://psdconsulting.com/calendar/r1-1-ecccnys-residential-enforcement-part-1-plan-review-in-15-minutes-or-less-4/
LOCATION:ONLINE – WEBINAR
CATEGORIES:New York Energy Code Training
END:VEVENT
BEGIN:VEVENT
DTSTART;TZID=America/New_York:20210217T101500
DTEND;TZID=America/New_York:20210217T114500
DTSTAMP:20260422T015843
CREATED:20210215T213727Z
LAST-MODIFIED:20210215T214211Z
UID:14037-1613556900-1613562300@psdconsulting.com
SUMMARY:(C2.2) Prioritizing ECCCNYS Enforcement for Commercial Buildings (Part 2)
DESCRIPTION:
URL:https://psdconsulting.com/calendar/c2-2-prioritizing-ecccnys-enforcement-for-commercial-buildings-part-2-4/
LOCATION:ONLINE – WEBINAR
CATEGORIES:New York Energy Code Training
END:VEVENT
BEGIN:VEVENT
DTSTART;TZID=America/New_York:20210217T083000
DTEND;TZID=America/New_York:20210217T100000
DTSTAMP:20260422T015843
CREATED:20210215T213547Z
LAST-MODIFIED:20210215T214329Z
UID:14035-1613550600-1613556000@psdconsulting.com
SUMMARY:(C2.1) Prioritizing ECCCNYS Enforcement for Commercial Buildings (Part 1)
DESCRIPTION:
URL:https://psdconsulting.com/calendar/c2-1-prioritizing-ecccnys-enforcement-for-commercial-buildings-part-1-4/
LOCATION:ONLINE – WEBINAR
CATEGORIES:New York Energy Code Training
END:VEVENT
BEGIN:VEVENT
DTSTART;TZID=America/New_York:20210216T101500
DTEND;TZID=America/New_York:20210216T114500
DTSTAMP:20260422T015843
CREATED:20210215T212835Z
LAST-MODIFIED:20210215T212835Z
UID:14033-1613470500-1613475900@psdconsulting.com
SUMMARY:(C1.2) Lighting Systems for Large Commercial Buildings (Part 2)
DESCRIPTION:
URL:https://psdconsulting.com/calendar/c1-2-lighting-systems-for-large-commercial-buildings-part-2-4/
LOCATION:ONLINE – WEBINAR
CATEGORIES:New York Energy Code Training
END:VEVENT
BEGIN:VEVENT
DTSTART;TZID=America/New_York:20210216T083000
DTEND;TZID=America/New_York:20210216T100000
DTSTAMP:20260422T015843
CREATED:20210215T212732Z
LAST-MODIFIED:20210215T212732Z
UID:14031-1613464200-1613469600@psdconsulting.com
SUMMARY:(C1.1) Mechanical Systems for Large Commercial Buildings (Part 1)
DESCRIPTION:
URL:https://psdconsulting.com/calendar/c1-1-mechanical-systems-for-large-commercial-buildings-part-1-7/
LOCATION:ONLINE – WEBINAR
CATEGORIES:New York Energy Code Training
END:VEVENT
BEGIN:VEVENT
DTSTART;TZID=America/New_York:20210210T101500
DTEND;TZID=America/New_York:20210210T114500
DTSTAMP:20260422T015843
CREATED:20201231T215117Z
LAST-MODIFIED:20201231T215117Z
UID:13915-1612952100-1612957500@psdconsulting.com
SUMMARY:(R2.2) ECCCNYS Residential Envelope (Part 2): Other Requirements
DESCRIPTION:NYSERDA Energy Code Training provided by Performance Systems Development \nCOST:\nCode Officials: Free (Use discount code provided in PSD marketing email or contact Jim Pisani at jpisani@psdconsulting.com to receive a code)\nAll Others: $15.00 \nCONTINUING EDUCATION:\nArchitects: 1.5 AIA LU | HSW\nHome Performance Contractors: 1.5 BPI CEUs\nCode Enforcement Officials: 1.5 NYS DOS In-Service Hours \nTo receive credit\, participants must log into the GoToWebinar application within the first 15 minutes of the training and stay until the end of the webinar. VIDEO VIEWING IS REQUIRED! \nCOURSE DESCRIPTION:\nRelevant market research\, including the DOE Residential Field Study\, revealed significant noncompliance with 3 ACH50\, and multiple other field studies in nearby geographies uncovered lack of proper insulation installation. This webinar training covers energy code insulation installation requirements\, and includes mock-ups\, identification and potential problem sites in CAD details\, 3D graphics\, and photographs for single family residential and other issues\, such as party walls in low-rise multifamily. This webinar is Part 2 of a two-part series and includes test-your-knowledge questions\, and guided discussion of pros/cons of various strategies. \nLearning Objectives\nAttendees will be able to…\n1: Understand how to review\, install\, and inspect details necessary to achieve envelope insulation requirements\n2: Differentiate between several insulation techniques\n3: Identify and resolve common problem areas such as cold corners\n4: Understand code requirements for insulation installation from the 2020 ECCCNYS Table 402.4.1.1 Air Barrier and Insulation Installation.
URL:https://psdconsulting.com/calendar/r2-2-ecccnys-residential-envelope-part-2-other-requirements-3/
LOCATION:ONLINE – WEBINAR
CATEGORIES:New York Energy Code Training
END:VEVENT
BEGIN:VEVENT
DTSTART;TZID=America/New_York:20210210T083000
DTEND;TZID=America/New_York:20210210T100000
DTSTAMP:20260422T015843
CREATED:20201231T214925Z
LAST-MODIFIED:20201231T214925Z
UID:13913-1612945800-1612951200@psdconsulting.com
SUMMARY:(R2.1) ECCCNYS Residential Envelope (Part 1): Air Sealing to 3 ACH50
DESCRIPTION:NYSERDA Energy Code Training provided by Performance Systems Development \nCOST:\nCode Officials: Free (Use discount code provided in PSD marketing email or contact Jim Pisani at jpisani@psdconsulting.com to receive a code)\nAll Others: $15.00 \nCONTINUING EDUCATION:\nArchitects: 1.5 AIA LU | HSW\nHome Performance Contractors: 1.5 BPI CEUs\nCode Enforcement Officials: 1.5 NYS DOS In-Service Hours \nTo receive credit\, participants must log into the GoToWebinar application within the first 15 minutes of the training and stay until the end of the webinar. VIDEO VIEWING IS REQUIRED! \nCOURSE DESCRIPTION:\nRelevant market research\, including the DOE Residential Field Study\, revealed significant noncompliance with 3 ACH50\, and multiple other field studies in nearby geographies and uncovered lack of proper insulation installation. This webinar training covers air sealing\, air barriers\, blower-door testing\, identification of potential leakage sites in CAD details\, 3D graphics\, and photographs\, for single family residential including other issues\, such as party walls\, in low-rise multifamily. This webinar is Part 1 of a two-part series on energy code envelope requirements. Both webinars include test-your-knowledge questions\, and guided discussion of pros/cons of various strategies. \nLearning Objectives:\nAttendees will be able to…\n1. Understand how to review\, install\, and inspect details necessary to achieve an envelope leakage rate of 3 ACH50 or less\n2. Differentiate between several air sealing techniques\n3. Identify and resolve common leakage areas like window and door penetrations\, attic knee walls\, recessed lighting trim kits\, townhouse party walls\, garage floor separation\, behind tubs\, showers\, and mechanical/electrical/plumbing penetrations\n4. Understand code requirements for air sealing from the 2020 ECCCNYS Table 402.4.1.1 Air Barrier and Insulation Installation.
URL:https://psdconsulting.com/calendar/r2-1-ecccnys-residential-envelope-part-1-air-sealing-to-3-ach50-3/
LOCATION:ONLINE – WEBINAR
CATEGORIES:New York Energy Code Training
END:VEVENT
BEGIN:VEVENT
DTSTART;TZID=America/New_York:20210209T101500
DTEND;TZID=America/New_York:20210209T114500
DTSTAMP:20260422T015843
CREATED:20201231T214310Z
LAST-MODIFIED:20201231T214310Z
UID:13911-1612865700-1612871100@psdconsulting.com
SUMMARY:(R1.2) ECCCNYS Residential Enforcement (Part 2): Inspection in 15 Minutes or Less
DESCRIPTION:NYSERDA Energy Code Training provided by Performance Systems Development \nCOST:\nCode Officials: Free (Use discount code provided in PSD marketing email or contact Jim Pisani at jpisani@psdconsulting.com to receive a code)\nAll Others: $15.00 \nCONTINUING EDUCATION:\nArchitects: 1.5 AIA LU | HSW\nHome Performance Contractors: 1.5 BPI CEUs\nCode Enforcement Officials: 1.5 NYS DOS In-Service Hours \nTo receive credit\, participants must log into the GoToWebinar application within the first 15 minutes of the training and stay until the end of the webinar. VIDEO VIEWING IS REQUIRED! \nCOURSE DESCRIPTION:\nCountless previous research shows that code officials have very limited time to perform thorough energy code inspections. This 90-minute webinar will cover the five required inspections: footing and foundation; Framing and rough-in; Plumbing\, Mechanical and Final. Part 2 of a two-part series\, this course will not only help code officials but also those responsible for designing and constructing residential buildings. Participants will understand what’s required to do quick – yet thorough – site inspections. Sample inspection checklists\, worksheets and other forms will be discussed and downloadable. \nLearning objectives:\nAttendees will be able to…\n1. Describe a process for inspecting residential construction that includes assessing the highest impact energy code provisions\n2. Understand the inputs to provided forms and checklists such as duct and envelope testing verification and HVAC design forms and integrate them into your organization’s normal compliance documentation or enforcement processes\n3. Recreate a timeline that includes which construction details and verification forms need to be provided/collected and when in the design/construction process\n4. Describe how third-party energy professionals such as duct and envelope testers and HERS Raters fit into the inspection process
URL:https://psdconsulting.com/calendar/r1-2-ecccnys-residential-enforcement-part-2-inspection-in-15-minutes-or-less-3/
LOCATION:ONLINE – WEBINAR
CATEGORIES:New York Energy Code Training
END:VEVENT
BEGIN:VEVENT
DTSTART;TZID=America/New_York:20210209T083000
DTEND;TZID=America/New_York:20210209T100000
DTSTAMP:20260422T015843
CREATED:20201231T214133Z
LAST-MODIFIED:20201231T214133Z
UID:13909-1612859400-1612864800@psdconsulting.com
SUMMARY:(R1.1) ECCCNYS Residential Enforcement (Part 1): Plan Review in 15 Minutes or Less
DESCRIPTION:NYSERDA Energy Code Training provided by Performance Systems Development \nCOST:\nCode Officials: Free (Use discount code provided in PSD marketing email or contact Jim Pisani at jpisani@psdconsulting.com to receive a code)\nAll Others: $15.00 \nCONTINUING EDUCATION:\nArchitects: 1.5 AIA LU | HSW\nHome Performance Contractors: 1.5 BPI CEUs\nCode Enforcement Officials: 1.5 NYS DOS In-Service Hours \nTo receive credit\, participants must log into the GoToWebinar application within the first 15 minutes of the training and stay until the end of the webinar. VIDEO VIEWING IS REQUIRED! \nCOURSE DESCRIPTION:\nCountless previous research shows that code officials have very limited time to perform thorough plan reviews and that energy code provisions are often the first items to be jettisoned. This webinar is Part 1 of a two-part series\, and will not only help code officials\, but also those responsible for preparing construction documents. Participants will understand what’s required to do quick – yet thorough – document submittals and plan reviews. Sample checklists\, worksheets and other forms will be discussed and downloadable. \nLEARNING OBJECTIVES:\nAttendees will be able to…\n1. Describe a process for reviewing residential plans that includes assessing the highest impact energy code provisions\n2. Understand the inputs to provided forms and checklists such as duct and envelope testing verification and HVAC design forms and integrate them into your organization’s normal compliance documentation or enforcement processes\n3. Recreate a timeline that includes which construction details and verification forms needed to be provided/collected\n4. Describe how third-party energy professionals such as duct and envelope testers and HERS Raters fit into the inspection process
URL:https://psdconsulting.com/calendar/r1-1-ecccnys-residential-enforcement-part-1-plan-review-in-15-minutes-or-less-3/
LOCATION:ONLINE – WEBINAR
CATEGORIES:New York Energy Code Training
END:VEVENT
BEGIN:VEVENT
DTSTART;TZID=America/New_York:20210203T144500
DTEND;TZID=America/New_York:20210203T161500
DTSTAMP:20260422T015843
CREATED:20201231T214019Z
LAST-MODIFIED:20201231T214019Z
UID:13907-1612363500-1612368900@psdconsulting.com
SUMMARY:(C2.2) Prioritizing ECCCNYS Enforcement for Commercial Buildings (Part 2)
DESCRIPTION:NYSERDA Energy Code Training provided by Performance Systems Development \nCOST:\nCode Officials: Free (Use discount code provided in PSD marketing email or contact Jim Pisani at jpisani@psdconsulting.com to receive a code)\nAll Others: $15.00 \nCONTINUING EDUCATION:\nArchitects: 1.5 AIA LU | HSW\nHome Performance Contractors: 1.5 BPI CEUs\nCode Enforcement Officials: 1.5 NYS DOS In-Service Hours \nTo receive credit\, participants must log into the GoToWebinar application within the first 15 minutes of the training and stay until the end of the webinar. VIDEO VIEWING IS REQUIRED! \nCOURSE DESCRIPTION: \nIn a robust study of commercial buildings\, 21% of the energy code provisions investigated were responsible for 81% of the potential savings. This created a framework for prioritizing energy code enforcement efforts based on the time it takes to verify a code provision versus the energy savings potential. With code enforcement officials being strapped for time and having other life-health safety priorities\, this course\, Part 2 of a two-part series\, covering high-impact commercial mechanical and lighting requirements\, will help them prioritize efforts\, improve compliance\, and maximize the realization of savings inherent in the energy code. \nLearning objectives: \nIdentify the energy code requirements with the greatest energy impacts and prioritize energy code documentation \nDescribe a process for creating and reviewing plans that includes documenting and assessing the highest impact energy code provisions \nUnderstand how to integrate provided construction details verification forms and checklists into normal compliance documentation or enforcement processes \nIdentify permit application specifications that enable a simplified plan review process as well as a process for providing or collecting verification forms
URL:https://psdconsulting.com/calendar/c2-2-prioritizing-ecccnys-enforcement-for-commercial-buildings-part-2-3/
LOCATION:ONLINE – WEBINAR
CATEGORIES:New York Energy Code Training
END:VEVENT
BEGIN:VEVENT
DTSTART;TZID=America/New_York:20210203T130000
DTEND;TZID=America/New_York:20210203T143000
DTSTAMP:20260422T015843
CREATED:20201231T213859Z
LAST-MODIFIED:20201231T213859Z
UID:13905-1612357200-1612362600@psdconsulting.com
SUMMARY:(C2.1) Prioritizing ECCCNYS Enforcement for Commercial Buildings (Part 1)
DESCRIPTION:NYSERDA Energy Code Training provided by Performance Systems Development \nCOST:\nCode Officials: Free (Use discount code provided in PSD marketing email or contact Jim Pisani at jpisani@psdconsulting.com to receive a code)\nAll Others: $15.00 \nCONTINUING EDUCATION:\nArchitects: 1.5 AIA LU | HSW\nHome Performance Contractors: 1.5 BPI CEUs\nCode Enforcement Officials: 1.5 NYS DOS In-Service Hours \nTo receive credit\, participants must log into the GoToWebinar application within the first 15 minutes of the training and stay until the end of the webinar. VIDEO VIEWING IS REQUIRED! \nCOURSE DESCRIPTION:\nIn a robust study of commercial buildings\, 21% of the energy code provisions investigated were responsible for 81% of the potential savings. This created a framework for prioritizing energy code enforcement efforts based on the time it takes to verify a code provision versus the energy savings potential. With code enforcement officials being strapped for time and having other life-health safety priorities\, this course\, Part 1 of a two-part series\, covering high-impact commercial envelope requirements\, will help them prioritize efforts\, improve compliance\, and maximize the realization of savings inherent in the energy code. \nLearning Objectives:\n1. Identify energy code envelope requirements with the greatest energy impacts and prioritize energy code documentation \n2. Describe a process for creating and reviewing plans that includes documenting and assessing the highest impact energy code provisions related to envelope \n3. Understand how to integrate provided construction details verification forms and checklists into normal compliance documentation or enforcement processes \n4. Identify permit application specifications that enable a simplified plan review process as well as a process for providing or collecting verification forms
URL:https://psdconsulting.com/calendar/c2-1-prioritizing-ecccnys-enforcement-for-commercial-buildings-part-1-3/
LOCATION:ONLINE – WEBINAR
CATEGORIES:New York Energy Code Training
END:VEVENT
END:VCALENDAR